BEGIN:VCALENDAR
VERSION:2.0
PRODID:-//Ainsley&#039;s Angels of America - ECPv6.15.20//NONSGML v1.0//EN
CALSCALE:GREGORIAN
METHOD:PUBLISH
X-WR-CALNAME:Ainsley&#039;s Angels of America
X-ORIGINAL-URL:https://ainsleysangels.org
X-WR-CALDESC:Events for Ainsley&#039;s Angels of America
REFRESH-INTERVAL;VALUE=DURATION:PT1H
X-Robots-Tag:noindex
X-PUBLISHED-TTL:PT1H
BEGIN:VTIMEZONE
TZID:UTC
BEGIN:STANDARD
TZOFFSETFROM:+0000
TZOFFSETTO:+0000
TZNAME:UTC
DTSTART:20220101T000000
END:STANDARD
END:VTIMEZONE
BEGIN:VTIMEZONE
TZID:America/New_York
BEGIN:DAYLIGHT
TZOFFSETFROM:-0500
TZOFFSETTO:-0400
TZNAME:EDT
DTSTART:20220313T070000
END:DAYLIGHT
BEGIN:STANDARD
TZOFFSETFROM:-0400
TZOFFSETTO:-0500
TZNAME:EST
DTSTART:20221106T060000
END:STANDARD
BEGIN:DAYLIGHT
TZOFFSETFROM:-0500
TZOFFSETTO:-0400
TZNAME:EDT
DTSTART:20230312T070000
END:DAYLIGHT
BEGIN:STANDARD
TZOFFSETFROM:-0400
TZOFFSETTO:-0500
TZNAME:EST
DTSTART:20231105T060000
END:STANDARD
BEGIN:DAYLIGHT
TZOFFSETFROM:-0500
TZOFFSETTO:-0400
TZNAME:EDT
DTSTART:20240310T070000
END:DAYLIGHT
BEGIN:STANDARD
TZOFFSETFROM:-0400
TZOFFSETTO:-0500
TZNAME:EST
DTSTART:20241103T060000
END:STANDARD
END:VTIMEZONE
BEGIN:VEVENT
DTSTART;TZID=UTC:20230422T080000
DTEND;TZID=UTC:20230422T100000
DTSTAMP:20260423T235637
CREATED:20230103T204329Z
LAST-MODIFIED:20230413T104006Z
UID:10000030-1682150400-1682157600@ainsleysangels.org
SUMMARY:Pirate Road Race and 1 Mile Fun Run: Color Run
DESCRIPTION:Pirate Road Race and 1 Mile Fun Run: Color Run Edition (runsignup.com)\nAPRIL 22\nStart Time: TBA\nLocation: Georgetown Lot (Chico’s) in Uptown Greenville \nJoin us Saturday\, April 22\, 2023\, for the 15th Annual Pirate Alumni Road Race and Fun Run in Greenville\, NC. There will also be a virtual option for our out-of-town Pirate family and friends. This is a family-friendly event for all whether you’re a seasoned runner\, walker\, or just like the occasional leisurely stroll. Your footprint will count and help to raise funds for ECU scholarships.
URL:https://ainsleysangels.org/single-event/pirate-road-race-and-1-mile-fun-run-color-run/
LOCATION:Georgetown Lot (Chico’s) in Uptown Greenville\, 521 Cotanche Street\, Greenville\, NC
CATEGORIES:Greenville
ATTACH;FMTTYPE=:
END:VEVENT
BEGIN:VEVENT
DTSTART;TZID=America/New_York:20230422T080000
DTEND;TZID=America/New_York:20230422T110000
DTSTAMP:20260423T235637
CREATED:20230221T195733Z
LAST-MODIFIED:20230221T204950Z
UID:10000620-1682150400-1682161200@ainsleysangels.org
SUMMARY:SENC - Coastal NC Run/Walk for Autism
DESCRIPTION:As many as 1 in 44 children may be diagnosed with autism in the United States. You can make a difference in the lives of people with autism\, their families\, and their communities by registering for the Coastal NC Run/Walk for Autism\, recruiting family and friends to join your team\, and raising donations. \nUNCW Track & Field\nIntersection of Hamilton Drive and Hurst Drive\nWilmington\, NC 28403 \n5K Competitive Race\n5K Noncompetitive\n1-Mile Fun Run/Walk \nImportant Dates:\nT-Shirt Deadline:\nFriday\, March 24\nPlease register by this date to guarantee your size. \nRegistration Deadline:\nThursday\, April 20\, at 12 noon \nPacket Pickup:\nFriday\, April 21\, 3:30-5:30 p.m.\nASNC Office\n705 S Kerr Avenue\, Wilmington\, NC 28403 \nRace Day:\n8:00-9:00 a.m.: Packet Pickup\n9 a.m.: 5K Competitive and Non-competitive\n10:00 a.m.: 1-Mile Fun Run on the track\nAwards Ceremony for competitive 5K & top fundraising teams following 5K\n \nLeashed dogs and strollers are allowed in all divisions. \nRegister at www.coastalncrunwalkforautism.com \n 
URL:https://ainsleysangels.org/single-event/coastal-nc-run-walk-for-autism/
CATEGORIES:North Carolina,Southeast North Carolina
ATTACH;FMTTYPE=:
END:VEVENT
END:VCALENDAR