BEGIN:VCALENDAR
VERSION:2.0
PRODID:-//Ainsley&#039;s Angels of America - ECPv6.15.20//NONSGML v1.0//EN
CALSCALE:GREGORIAN
METHOD:PUBLISH
X-WR-CALNAME:Ainsley&#039;s Angels of America
X-ORIGINAL-URL:https://ainsleysangels.org
X-WR-CALDESC:Events for Ainsley&#039;s Angels of America
REFRESH-INTERVAL;VALUE=DURATION:PT1H
X-Robots-Tag:noindex
X-PUBLISHED-TTL:PT1H
BEGIN:VTIMEZONE
TZID:UTC
BEGIN:STANDARD
TZOFFSETFROM:+0000
TZOFFSETTO:+0000
TZNAME:UTC
DTSTART:20220101T000000
END:STANDARD
END:VTIMEZONE
BEGIN:VEVENT
DTSTART;TZID=UTC:20230401T090000
DTEND;TZID=UTC:20230401T110000
DTSTAMP:20260423T190818
CREATED:20230103T203632Z
LAST-MODIFIED:20230214T054953Z
UID:10000033-1680339600-1680346800@ainsleysangels.org
SUMMARY:Eastern Run/Walk For Autism
DESCRIPTION:2023 Eastern Run/Walk – Autism Society of North Carolina (autismsociety-nc.org)\nAPRIL 1\nStart Time: 9am\nLocation: Greenville Town Common\, 105 E. First St\, Greenville \nJoin us for the 14th Annual Eastern Run/Walk for Autism! We’re excited to announce that the Eastern Run/Walk for Autism will be in-person this year! Join us for an amazing day of community that will improve the lives of children and adults with autism.
URL:https://ainsleysangels.org/single-event/eastern-run-walk-for-autism/
LOCATION:Greenville Town Common\, 105 E. First Street\, Greenville\, 27858\, United States
CATEGORIES:Greenville
ATTACH;FMTTYPE=:
END:VEVENT
END:VCALENDAR