BEGIN:VCALENDAR
VERSION:2.0
PRODID:-//Ainsley&#039;s Angels of America - ECPv6.15.20//NONSGML v1.0//EN
CALSCALE:GREGORIAN
METHOD:PUBLISH
X-WR-CALNAME:Ainsley&#039;s Angels of America
X-ORIGINAL-URL:https://ainsleysangels.org
X-WR-CALDESC:Events for Ainsley&#039;s Angels of America
REFRESH-INTERVAL;VALUE=DURATION:PT1H
X-Robots-Tag:noindex
X-PUBLISHED-TTL:PT1H
BEGIN:VTIMEZONE
TZID:UTC
BEGIN:STANDARD
TZOFFSETFROM:+0000
TZOFFSETTO:+0000
TZNAME:UTC
DTSTART:20220101T000000
END:STANDARD
END:VTIMEZONE
BEGIN:VEVENT
DTSTART;TZID=UTC:20230311T073000
DTEND;TZID=UTC:20230311T103000
DTSTAMP:20260424T045114
CREATED:20230103T201713Z
LAST-MODIFIED:20230214T055003Z
UID:10000036-1678519800-1678530600@ainsleysangels.org
SUMMARY:Live Well Half Marathon\, Free 5k\, & 1 Mile Fun Run
DESCRIPTION:Live Well Half Marathon\, Free 5K & 1 Mile Fun Run (runsignup.com) \nMARCH 11\nStart Time: 9am 5k\, 7:30am Half Marathon\nLocation: Town Common\, 105 E 1st Street\, Greenville \nKinetic Physical Therapy and Wellness is hosting an event with local sponsors and support to help promote the health of the Pitt County area! We want to give competitive and first time runners a chance to experience the benefits of exercise and healthy living for FREE! Feel free to arrive early or hang around to visit local partners for health and wellness in our community. \nThe 5k is a Free Event. We still ask that you register in advance to ensure that you receive a T-shirt.
URL:https://ainsleysangels.org/single-event/live-well-half-marathon-free-5k-1-mile-fun-run/
LOCATION:Greenville Town Common\, 105 E. First Street\, Greenville\, 27858\, United States
CATEGORIES:Greenville
ATTACH;FMTTYPE=:
END:VEVENT
END:VCALENDAR