BEGIN:VCALENDAR
VERSION:2.0
PRODID:-//Ainsley&#039;s Angels of America - ECPv6.15.20//NONSGML v1.0//EN
CALSCALE:GREGORIAN
METHOD:PUBLISH
X-ORIGINAL-URL:https://ainsleysangels.org
X-WR-CALDESC:Events for Ainsley&#039;s Angels of America
REFRESH-INTERVAL;VALUE=DURATION:PT1H
X-Robots-Tag:noindex
X-PUBLISHED-TTL:PT1H
BEGIN:VTIMEZONE
TZID:UTC
BEGIN:STANDARD
TZOFFSETFROM:+0000
TZOFFSETTO:+0000
TZNAME:UTC
DTSTART:20220101T000000
END:STANDARD
END:VTIMEZONE
BEGIN:VEVENT
DTSTART;TZID=UTC:20230304T083000
DTEND;TZID=UTC:20230304T113000
DTSTAMP:20260424T045320
CREATED:20230115T201653Z
LAST-MODIFIED:20230214T055012Z
UID:10000038-1677918600-1677929400@ainsleysangels.org
SUMMARY:9th Annual Ainsley's Angels Run With Your Heart 5K/10K/15K
DESCRIPTION:The Ainsley’s Angels Race Series 9th Annual Run With Your Heart 5K/10K/15K hosted by Ainsley’s Angels of Eastern Carolina.\nPacket Pickup: Friday March 3rd from 5pm – 8pm at Fairfield by Mariott\, Circuit Lane in Jacksonville!\nComing in from out of town and looking for a hotel! We have a block of rooms at the Fairfield by Mariott for the nights of the 3rd and 4th at $109/night. The block rate is good until 2/17\, at that point the rooms will be released. Call our hotel contact\, Jae Smith\, directly at 910.938.4499 Monday-Friday!Rive
URL:https://ainsleysangels.org/single-event/9th-annual-ainsleys-angels-run-with-your-heart-5k-10k-15k/
LOCATION:Riverwalk Crossing Park\, 421 Court St\, Jacksonville\, NC\, 28540
CATEGORIES:Eastern Carolina,North Carolina
ATTACH;FMTTYPE=:
END:VEVENT
BEGIN:VEVENT
DTSTART;TZID=UTC:20230304T090000
DTEND;TZID=UTC:20230304T120000
DTSTAMP:20260424T045320
CREATED:20230103T202638Z
LAST-MODIFIED:20230214T055009Z
UID:10000037-1677920400-1677931200@ainsleysangels.org
SUMMARY:Ainsley's Angels 9th Annual Run With Your Heart 5k/10k/15k
DESCRIPTION:Ainsley’s Angels 9th Annual Run With Your Heart 5K/10K/15K (runsignup.com) \nMARCH 4\nStart Time: 9am\nLocation: Jacksonville\, NC\, Riverwalk Crossing Park\, 421 Court St\, Jacksonville \nRIDERS MUST REGISTER USING THE LINK ABOVE! \nDESTINATION RACE. YOU WON’T WANT TO MISS THIS! The Ainsley’s Angels Race Series 9th Annual Run With Your Heart 5K/10K/15K has something for everyone with 3 different distances to choose from plus an incredibly fun resource fair at the finish! \nYou can stay up to date with all race event info via the Facebook Event\, (5) Ainsley’s Angels 9th Annual Run With Your Heart 5K/10K/15K | Facebook
URL:https://ainsleysangels.org/single-event/ainsleys-angels-9th-annual-run-with-your-heart-5k-10k-15k/
CATEGORIES:Greenville
ATTACH;FMTTYPE=:
END:VEVENT
END:VCALENDAR