BEGIN:VCALENDAR
VERSION:2.0
PRODID:-//Ainsley&#039;s Angels of America - ECPv6.15.20//NONSGML v1.0//EN
CALSCALE:GREGORIAN
METHOD:PUBLISH
X-WR-CALNAME:Ainsley&#039;s Angels of America
X-ORIGINAL-URL:https://ainsleysangels.org
X-WR-CALDESC:Events for Ainsley&#039;s Angels of America
REFRESH-INTERVAL;VALUE=DURATION:PT1H
X-Robots-Tag:noindex
X-PUBLISHED-TTL:PT1H
BEGIN:VTIMEZONE
TZID:America/New_York
BEGIN:DAYLIGHT
TZOFFSETFROM:-0500
TZOFFSETTO:-0400
TZNAME:EDT
DTSTART:20220313T070000
END:DAYLIGHT
BEGIN:STANDARD
TZOFFSETFROM:-0400
TZOFFSETTO:-0500
TZNAME:EST
DTSTART:20221106T060000
END:STANDARD
BEGIN:DAYLIGHT
TZOFFSETFROM:-0500
TZOFFSETTO:-0400
TZNAME:EDT
DTSTART:20230312T070000
END:DAYLIGHT
BEGIN:STANDARD
TZOFFSETFROM:-0400
TZOFFSETTO:-0500
TZNAME:EST
DTSTART:20231105T060000
END:STANDARD
BEGIN:DAYLIGHT
TZOFFSETFROM:-0500
TZOFFSETTO:-0400
TZNAME:EDT
DTSTART:20240310T070000
END:DAYLIGHT
BEGIN:STANDARD
TZOFFSETFROM:-0400
TZOFFSETTO:-0500
TZNAME:EST
DTSTART:20241103T060000
END:STANDARD
BEGIN:DAYLIGHT
TZOFFSETFROM:-0500
TZOFFSETTO:-0400
TZNAME:EDT
DTSTART:20250309T070000
END:DAYLIGHT
BEGIN:STANDARD
TZOFFSETFROM:-0400
TZOFFSETTO:-0500
TZNAME:EST
DTSTART:20251102T060000
END:STANDARD
END:VTIMEZONE
BEGIN:VEVENT
DTSTART;TZID=America/New_York:20241128T083000
DTEND;TZID=America/New_York:20241128T093000
DTSTAMP:20260420T073915
CREATED:20240228T014914Z
LAST-MODIFIED:20240228T020048Z
UID:10000809-1732782600-1732786200@ainsleysangels.org
SUMMARY:Christopher Dailey Foundation 5K Saratoga Turkey Trot
DESCRIPTION:The Christopher Dailey Foundation’s annual Turkey Trot returns on Thanksgiving morning – Thursday\, November 23\, 2023 at 8:30AM. \nThis year’s 5K run/walk includes both in-person and virtual options. Online registration closes at 8PM on Wednesday\, November 22\, and in-person registration is available on Wednesday\, November 22 between 4pm-8pm. There is no race day registration! \nPacket pickup will take place at the Saratoga Hilton on Wednesday\, November 22 between 4pm-8pm and Thursday\, November 23 between 6am-8am. \nThe course starts at City Hall and travels north on Broadway\, continues through the Skidmore Campus\, and ends at John Witt’s office.
URL:https://ainsleysangels.org/single-event/great-pumpkin-challenge-5k-10k/
LOCATION:Downtown Saratoga Springs\, Broadway Saratoga Springs\, NY 12866\, Broadway\, Saratoga Springs\, ny\, 12866
CATEGORIES:Albany / ADK
ATTACH;FMTTYPE=:
ORGANIZER;CN="The Christopher Dailey Foundation":MAILTO:christopherdaileyfoundation@gmail.com
END:VEVENT
BEGIN:VEVENT
DTSTART;TZID=America/New_York:20240928T093000
DTEND;TZID=America/New_York:20240928T103000
DTSTAMP:20260420T073915
CREATED:20240229T010039Z
LAST-MODIFIED:20240229T010039Z
UID:10000823-1727515800-1727519400@ainsleysangels.org
SUMMARY:The Great Pumpkin
DESCRIPTION:
URL:https://ainsleysangels.org/single-event/the-great-pumpkin/2024-09-28/2/
LOCATION:Saratoga State Park\, Orenda Pavilion\, Saratoga Springs\, NY
CATEGORIES:Albany / ADK,Buffalo
ATTACH;FMTTYPE=:
ORGANIZER;CN="Saratoga Bridges":MAILTO:info@saratogabridges.org
END:VEVENT
BEGIN:VEVENT
DTSTART;TZID=America/New_York:20240928T080000
DTEND;TZID=America/New_York:20240928T170000
DTSTAMP:20260420T073915
CREATED:20240229T010039Z
LAST-MODIFIED:20240229T010039Z
UID:10000822-1727510400-1727542800@ainsleysangels.org
SUMMARY:The Great Pumpkin
DESCRIPTION:
URL:https://ainsleysangels.org/single-event/the-great-pumpkin/2024-09-28/1/
LOCATION:Saratoga State Park\, Orenda Pavilion\, Saratoga Springs\, NY
CATEGORIES:Albany / ADK,Buffalo
ATTACH;FMTTYPE=:
ORGANIZER;CN="Saratoga Bridges":MAILTO:info@saratogabridges.org
END:VEVENT
BEGIN:VEVENT
DTSTART;TZID=America/New_York:20240810T090000
DTEND;TZID=America/New_York:20240810T100000
DTSTAMP:20260420T073915
CREATED:20240228T204323Z
LAST-MODIFIED:20240228T204323Z
UID:10000815-1723280400-1723284000@ainsleysangels.org
SUMMARY:CERVEZA SHUFFLE 5K / 10K / 1K Fun run
DESCRIPTION:The Glens Falls Medical Mission presents the 7th Annual CERVEZA SHUFFLE. \nAll entries 10 & over have a $25/$20 entry fee (10K/5K) Kids 10&Under are free for the 10K and 5K…..Family Fun Run 1K is FREE for all. Paid entrants will get a free draft on site from the Horseshoe Bar & Grill and a free draft ticket for Common Roots (21&Over). Treats for the kids will be available too! \nRUNNING’S NOT YOUR THING??? PLEASE see the registration link above for ways to support the event and the medical mission WITHOUT the run!!
URL:https://ainsleysangels.org/single-event/cerveza-shuffle-5k-10k-1k-fun-run/
LOCATION:Saratoga State Park\, Orenda Pavilion\, Saratoga Springs\, NY
CATEGORIES:Albany / ADK
ATTACH;FMTTYPE=:
ORGANIZER;CN="GLENS FALLS MEDICAL MISSION":MAILTO:glensfallsmission@gmail.com
END:VEVENT
BEGIN:VEVENT
DTSTART;TZID=America/New_York:20240704T090000
DTEND;TZID=America/New_York:20240704T100000
DTSTAMP:20260420T073915
CREATED:20240226T011201Z
LAST-MODIFIED:20240226T011201Z
UID:10000801-1720083600-1720087200@ainsleysangels.org
SUMMARY:FIRECRACKER 4 ROAD RACE
DESCRIPTION:Race Date: Thursday\, July 4th\, 2024\nStart Time: 9:00am\nStart Location: Saratoga Springs City Center 522 Broadway\, Saratoga Springs\, NY\nFinish Location: Maple Avenue & Ellsworth Jones Place Intersection\nDistance & Course: 4 mile course that was USATF certified in 2023. The course is marked and clocked at each mile. There are 3 water stations and many musicians sprinkled along the route. Streets will be closed to traffic for approximately 1 hour.
URL:https://ainsleysangels.org/single-event/firecracker-4-road-race/
LOCATION:NY
CATEGORIES:Albany / ADK
ATTACH;FMTTYPE=:
ORGANIZER;CN="USATF Adirondack Association":MAILTO:office@adirondack.usatf.org
END:VEVENT
BEGIN:VEVENT
DTSTART;TZID=America/New_York:20240601T100000
DTEND;TZID=America/New_York:20240601T110000
DTSTAMP:20260420T073915
CREATED:20240225T194743Z
LAST-MODIFIED:20240225T194932Z
UID:10000800-1717236000-1717239600@ainsleysangels.org
SUMMARY:CHARLTON HERITAGE 5K RUN AND WALK
DESCRIPTION:Our race is held annually on Founders weekend and celebrates the founding of the Town of Charlton\, NY. The race is just one of many fun and entertaining events scheduled for the Town of Charlton Founders weekend. \nThe race benefits the Charlton Historical Society and its mission to preserve the historical buildings and artifacts in the Town and to educate all who are interested in the history of our community. \nThe 5K course is a challenging mix of rolling hills and flats through the picturesque back roads of this sleepy rural Saratoga County hamlet. We start at the Old Red School House and complete the out and back course to finish at the beautiful St. Paul’s Church built in 1804.
URL:https://ainsleysangels.org/single-event/charlton-heritage-5k-run-and-walk/
LOCATION:The Charlton\, NY Historical Society\, 2009 Maple Ave\, Charlton\, NY\, United States
CATEGORIES:Albany / ADK
ATTACH;FMTTYPE=:
END:VEVENT
BEGIN:VEVENT
DTSTART;TZID=America/New_York:20240512T091500
DTEND;TZID=America/New_York:20240512T113000
DTSTAMP:20260420T073915
CREATED:20240225T193248Z
LAST-MODIFIED:20240225T193248Z
UID:10000799-1715505300-1715513400@ainsleysangels.org
SUMMARY:Mother-Lovin’ 5K Run/Walk (ML5K)
DESCRIPTION:Start or keep a\nMother’s Day tradition!\nThe 12th annual Mother-Lovin’ 5K Run/Walk (ML5K) will take place:\nSunday\, May 12\, 2024\nIn person:\nOrenda Pavilion – Saratoga Spa State Park\nSaratoga Springs\, New York \nVirtually:\nFrom anywhere\nAll proceeds directly support the Kelly’s Angels mission to help children who’ve lost a parent or sibling to cancer or other illness or who are battling a life-threatening condition. Your support brings joy to the lives of children and their families who are facing tough times. \n\n\n\n\n\n\n\n\n\n\n\nREGISTRATION WILL OPEN SOON!\nInterested in being an event sponsor?\nEmail KellysAngelsInc@gmail.com \n\n\n\n\n\n\n\n\n\n\n\nRACE DAY ITINERARY\nMother’s Day\, Sunday\, May 12\, 2024\nOrenda Pavilion\, Saratoga Spa State Park\nFree parking in the SPAC Route 50 lot \n7:30 AM – 8:30 AM Registration and packet pick-up \n7:30 AM Angel Raffle begins \n8:45 AM Free Kids Fun Run \n9:00 AM Welcome + National Anthem \n9:15 AM Mother-Lovin’ 5K Run/Walk begins \n9:30 AM Angel Raffle ends and winners posted \n10:15 AM Awards ceremony \n10:30 AM Event concludes \nQuestions?\nEmail KellysAngelsInc@gmail.com
URL:https://ainsleysangels.org/single-event/mother-lovin-5k-run-walk-ml5k/
LOCATION:Saratoga State Park\, Orenda Pavilion\, Saratoga Springs\, NY
CATEGORIES:Albany / ADK,New York
ATTACH;FMTTYPE=:
END:VEVENT
BEGIN:VEVENT
DTSTART;TZID=America/New_York:20240324T110000
DTEND;TZID=America/New_York:20240324T113000
DTSTAMP:20260420T073915
CREATED:20240225T190608Z
LAST-MODIFIED:20240225T190608Z
UID:10000798-1711278000-1711279800@ainsleysangels.org
SUMMARY:Shamrock Shuffle 5k
DESCRIPTION:REGISTRATION: $28.00 (Race day $35.00). Adirondack Runner Members: $23.00 ($28.00 race day). Make checks payable to The Adirondack Runners. Mail to: Laurie Anderson\, 7 Westland Ave\, Queensbury\, NY 12804 \nCHECK IN & RACE DAY REGISTRATION: 8:00 am to 10:30 am in GF High School Gymnasium \nCOURSE: 5 mile loop\, fast course. Go to adkrunners.org for link to course \nPERKS: Long sleeve shirts to first 300 entrants registered by March 10\, 2024. \nSnacks after the race!! Awesome volunteers!
URL:https://ainsleysangels.org/single-event/shamrock-shuffle-5k/
LOCATION:Glens Falls High School\, 10 Quade Street\, Glens Falls\, NY\, United States
CATEGORIES:Albany / ADK
ATTACH;FMTTYPE=:
ORGANIZER;CN="The Adirondack Runners":MAILTO:info@adirondackrunners.org
END:VEVENT
BEGIN:VEVENT
DTSTART;TZID=America/New_York:20231123T090000
DTEND;TZID=America/New_York:20231123T110000
DTSTAMP:20260420T073915
CREATED:20230317T175424Z
LAST-MODIFIED:20230317T180201Z
UID:10000640-1700730000-1700737200@ainsleysangels.org
SUMMARY:Albany-Adirondacks -Christopher Dailey Turkey Trot
DESCRIPTION:11/23- Christopher Dailey Turkey Trot – Saratoga Springs
URL:https://ainsleysangels.org/single-event/albany-adirondacks-christopher-dailey-turkey-trot/
LOCATION:NY
CATEGORIES:Albany / ADK
ATTACH;FMTTYPE=:
END:VEVENT
BEGIN:VEVENT
DTSTART;TZID=America/New_York:20230930T090000
DTEND;TZID=America/New_York:20230930T110000
DTSTAMP:20260420T073915
CREATED:20230315T004103Z
LAST-MODIFIED:20230315T004103Z
UID:10000639-1696064400-1696071600@ainsleysangels.org
SUMMARY:Albany-Adirondacks Great Pumpkin challenge - Saratoga Springs
DESCRIPTION:23rd Annual \n9/30/2023 \nSaratoga Springs State Park \nHosted y Saratoga Bridges \n  \n 
URL:https://ainsleysangels.org/single-event/albany-adirondacks-great-pumpkin-challenge-saratoga-springs/
LOCATION:NY
CATEGORIES:Albany / ADK
ATTACH;FMTTYPE=:
END:VEVENT
BEGIN:VEVENT
DTSTART;TZID=America/New_York:20230812T080000
DTEND;TZID=America/New_York:20230812T110000
DTSTAMP:20260420T073915
CREATED:20230315T003544Z
LAST-MODIFIED:20230315T003544Z
UID:10000638-1691827200-1691838000@ainsleysangels.org
SUMMARY:Albany-Adirondacks August -TBA - Jailhouse Rock 5K - Ballston Spa
DESCRIPTION:Ballston Spa
URL:https://ainsleysangels.org/single-event/albany-adirondacks-august-tba-jailhouse-rock-5k-ballston-spa/
LOCATION:NY
CATEGORIES:Albany / ADK
ATTACH;FMTTYPE=:
END:VEVENT
BEGIN:VEVENT
DTSTART;TZID=America/New_York:20230704T090000
DTEND;TZID=America/New_York:20230704T110000
DTSTAMP:20260420T073915
CREATED:20230315T003245Z
LAST-MODIFIED:20230315T003245Z
UID:10000637-1688461200-1688468400@ainsleysangels.org
SUMMARY:Albany-Adirondacks- Firecracker 4 - Saratoga Springs
DESCRIPTION:Tuesday\, July 4\, 2023\n9:00 AM – 11:00 AM\nSaratoga Springs City Center
URL:https://ainsleysangels.org/single-event/albany-adirondacks-firecracker-4-saratoga-springs/
LOCATION:NY
CATEGORIES:Albany / ADK
ATTACH;FMTTYPE=:
END:VEVENT
BEGIN:VEVENT
DTSTART;TZID=America/New_York:20230603T100000
DTEND;TZID=America/New_York:20230603T120000
DTSTAMP:20260420T073915
CREATED:20230315T001807Z
LAST-MODIFIED:20230315T001807Z
UID:10000635-1685786400-1685793600@ainsleysangels.org
SUMMARY:Albany-Adirondacks-Charlton 5k
DESCRIPTION:Charlton Heritage 5K Run
URL:https://ainsleysangels.org/single-event/albany-adirondacks-charlton-5k/
LOCATION:NY
CATEGORIES:Albany / ADK
ATTACH;FMTTYPE=:
END:VEVENT
BEGIN:VEVENT
DTSTART;TZID=America/New_York:20230402T130000
DTEND;TZID=America/New_York:20230402T150000
DTSTAMP:20260420T073915
CREATED:20230315T002745Z
LAST-MODIFIED:20230315T002745Z
UID:10000636-1680440400-1680447600@ainsleysangels.org
SUMMARY:Albany-Adirondacks Bowling and Pizza party
DESCRIPTION:Before we race\, let’s BOWL!  Please join us for a bowling pizza party on Sunday\, April 2nd from 1 – 3 p.m. at Spare Time in Clifton Park.  EVERYONE IS WELCOME!  All AAngel riders and siblings bowl FREE.  Everyone else – $15 for bowling\, shoes\, pizza\, and soda. Please let me know by Sunday\, March 20th if you’ll be bowling with us.  I promise it’s a great time!  Bring your family\, friends\, everyone!!!
URL:https://ainsleysangels.org/single-event/albany-adirondacks-bowling-and-pizza-party/
LOCATION:NY
CATEGORIES:Albany / ADK
ATTACH;FMTTYPE=:
END:VEVENT
END:VCALENDAR