BEGIN:VCALENDAR
VERSION:2.0
PRODID:-//Ainsley&#039;s Angels of America - ECPv6.15.20//NONSGML v1.0//EN
CALSCALE:GREGORIAN
METHOD:PUBLISH
X-WR-CALNAME:Ainsley&#039;s Angels of America
X-ORIGINAL-URL:https://ainsleysangels.org
X-WR-CALDESC:Events for Ainsley&#039;s Angels of America
REFRESH-INTERVAL;VALUE=DURATION:PT1H
X-Robots-Tag:noindex
X-PUBLISHED-TTL:PT1H
BEGIN:VTIMEZONE
TZID:America/New_York
BEGIN:DAYLIGHT
TZOFFSETFROM:-0500
TZOFFSETTO:-0400
TZNAME:EDT
DTSTART:20250309T070000
END:DAYLIGHT
BEGIN:STANDARD
TZOFFSETFROM:-0400
TZOFFSETTO:-0500
TZNAME:EST
DTSTART:20251102T060000
END:STANDARD
BEGIN:DAYLIGHT
TZOFFSETFROM:-0500
TZOFFSETTO:-0400
TZNAME:EDT
DTSTART:20260308T070000
END:DAYLIGHT
BEGIN:STANDARD
TZOFFSETFROM:-0400
TZOFFSETTO:-0500
TZNAME:EST
DTSTART:20261101T060000
END:STANDARD
BEGIN:DAYLIGHT
TZOFFSETFROM:-0500
TZOFFSETTO:-0400
TZNAME:EDT
DTSTART:20270314T070000
END:DAYLIGHT
BEGIN:STANDARD
TZOFFSETFROM:-0400
TZOFFSETTO:-0500
TZNAME:EST
DTSTART:20271107T060000
END:STANDARD
END:VTIMEZONE
BEGIN:VEVENT
DTSTART;TZID=America/New_York:20260418T083000
DTEND;TZID=America/New_York:20260418T120000
DTSTAMP:20260419T145738
CREATED:20260124T000816Z
LAST-MODIFIED:20260124T000816Z
UID:10001370-1776501000-1776513600@ainsleysangels.org
SUMMARY:Cumberland County Running Festival 5k\, 10 miler\, Half Marathon
DESCRIPTION:Place\n960 Ye Greate St\nGreenwich\, NJ US 08323\n\n\n\n\nDescription\n\n\n Celebrate the rich history of one of South Jersey’s oldest towns as you run the quiet streets of Greenwich New Jersey.  The route takes you through scenic farmland and past quaint historical buildings. The race starts and ends at the Gibbon House. Proceeds from the race help support the Cumberland County Historical Society.\n*After the race stick around for the awards and post race party.  We will have a food truck on site.   We also encourage you to visit some of the wonderful museums the town has to offer.  This race will kick off the opening weekend of 2025. We will have giveaways and free  tours.\nThis year we added a 13.1 distance \n*Courses are flat and fast.  Only 92 ft of elevation on the 10 miler! \n***Courses are in the process of being certified. \nAwards: Top 3 male and female overall\nAge group awards (under 15\, 15-19\, 20-29\, 30-39\, 40-49\,50-59\,60-69\, 70+)\nFinisher Medals  and Shirts (sign up by 4/10 to be guaranteed a shirt)  included with registration.\nRace Day Schedule \n\n7:30 Checkin Starts\n8:30 13.1\, 0 mile/10k starts\n8:35 5k/ 1 mile starts\nAward ceremonies will begin as each race finishes
URL:https://ainsleysangels.org/single-event/cumberland-county-running-festival-5k-10-miler-half-marathon/
CATEGORIES:New Jersey,South Jersey
ATTACH;FMTTYPE=:
END:VEVENT
END:VCALENDAR