BEGIN:VCALENDAR
VERSION:2.0
PRODID:-//Ainsley&#039;s Angels of America - ECPv6.15.20//NONSGML v1.0//EN
CALSCALE:GREGORIAN
METHOD:PUBLISH
X-ORIGINAL-URL:https://ainsleysangels.org
X-WR-CALDESC:Events for Ainsley&#039;s Angels of America
REFRESH-INTERVAL;VALUE=DURATION:PT1H
X-Robots-Tag:noindex
X-PUBLISHED-TTL:PT1H
BEGIN:VTIMEZONE
TZID:America/New_York
BEGIN:DAYLIGHT
TZOFFSETFROM:-0500
TZOFFSETTO:-0400
TZNAME:EDT
DTSTART:20250309T070000
END:DAYLIGHT
BEGIN:STANDARD
TZOFFSETFROM:-0400
TZOFFSETTO:-0500
TZNAME:EST
DTSTART:20251102T060000
END:STANDARD
BEGIN:DAYLIGHT
TZOFFSETFROM:-0500
TZOFFSETTO:-0400
TZNAME:EDT
DTSTART:20260308T070000
END:DAYLIGHT
BEGIN:STANDARD
TZOFFSETFROM:-0400
TZOFFSETTO:-0500
TZNAME:EST
DTSTART:20261101T060000
END:STANDARD
BEGIN:DAYLIGHT
TZOFFSETFROM:-0500
TZOFFSETTO:-0400
TZNAME:EDT
DTSTART:20270314T070000
END:DAYLIGHT
BEGIN:STANDARD
TZOFFSETFROM:-0400
TZOFFSETTO:-0500
TZNAME:EST
DTSTART:20271107T060000
END:STANDARD
END:VTIMEZONE
BEGIN:VEVENT
DTSTART;TZID=America/New_York:20260614T090000
DTEND;TZID=America/New_York:20260614T110000
DTSTAMP:20260420T005402
CREATED:20251231T020549Z
LAST-MODIFIED:20251231T020549Z
UID:10001343-1781427600-1781434800@ainsleysangels.org
SUMMARY:Valenzano Winery 5K
DESCRIPTION:Place\nValenzano Winery\n1090 US Rt. 206\nShamong\, NJ US 08088\n\n\n\n\nDescription\n\n\nValenzano Family Winery hosts Run the Vineyards for the 10th Annual 5K! Run or Walk the course and finish with a fun after party. Enjoy running on country roads and through a short vineyard trail\, and finish in a beautiful setting with handcrafted delicious wine\, live music\, and delicious pizza! A memorable and fun winery experience that combines the love of wine\, outdoors\, and healthy exercise!\nMore than a race…popular event for families\, friends\, and running groups! \nCharity Partner for this race is HEADstrong Foundation. Learn More Here: www.HEADstrong.org\nThe Race:\n\n\nBeautiful 5K course around the vineyard\, along country roads and finishes at the winery.\n\n\nProfessionally Chip-Timed with Instant Results. Race starts at 9AM.\n\n\nAwards for Top 3 Overall and Age Group female and male winners (14 & under\, 15-19\, 20-29\, and every 10 years)\n\n\nMore than a race….\n\n\nComplimentary glass of wine for all finishers (21+)\n\n\nSouvenir wine glass for all finishers\, Stemless 15 oz with Run the Vineyards logo\n\n\nCustom Tech Shirt for all participants. Adult/men’s tank/tee\, youth tee\, and women’s tee sizes. Upgrade to Women’s Racerback Tank Top for $5 extra. Register by May 31 to guarantee your first choice. Many extras are ordered and available while supplies last after May 31.\n\n\nFree downloadable photos. Professional photographer on staff.\n\n\nFinisher Medals available for $8 during registration or $10 on race day\n\n\nPost race live music until Noon.\n\n\nOn-site food truck until Noon.\n\n\nBeautiful setting in the festival field overlooking the vineyard property\n\n\nValenzano Family Winery wine bar will be open for additional purchases\n\n\nPacket Pick-Up on Race Day @ 7:30 – 8:30 AM at “Good Day for a Run” tent at the winery.\n\n\nRace is Rain or Shine. No refunds or deferrals.
URL:https://ainsleysangels.org/single-event/valenzano-winery-5k/
LOCATION:Valenzano Winery\, 1090 US Rt 206\, Shamong\, NJ\, 08088\, United States
CATEGORIES:New Jersey,South Jersey
ATTACH;FMTTYPE=:
END:VEVENT
BEGIN:VEVENT
DTSTART;TZID=America/New_York:20260621T090000
DTEND;TZID=America/New_York:20260621T103000
DTSTAMP:20260420T005402
CREATED:20251231T021117Z
LAST-MODIFIED:20251231T021117Z
UID:10001344-1782032400-1782037800@ainsleysangels.org
SUMMARY:RUNNING THE AVE 5K
DESCRIPTION:THE RACE OF THE SUMMER\n\nSince 2019 the RTA5K has delivered a great race experience for runners of all levels on an epic course through the states largest city. This is a can’t-miss summer race for Cumberland County.\n– Special Awards for fastest Male\, Female\, and Kid from Vineland and the True Grit Award for our LAST PLACE FINISHER.\n– Awards to Top 3 Overall  and in Age Groups: 10 & under\, 11-14\, 15-19\, and 10 year age groups up to 70+\n– NEW Stroller & Racing Chair Divisions: Awards to the top 3 Stroller and Racing Chair Runners!\nRegistration fee for runners 18 & under is only $10\n\nRACE DAY\nPre-race packet pickup and race day registration will open at 7:30 am.\nRace day registration and payment is done online via QR code. No cash or checks accepted.\nRace day registration will close at 8:50 to ensure an on time start of 9:00 am – NO EXCEPTIONS. Pre-registered runners can still check in until 8:55.\n  \nTHE HEART OF VINELAND RUNNING SINCE 2019\nRTA5K is the official race of Vinelands Running Movement and 2025 will be its eighth year of bringing the community together. We pride ourselves on offering a family friendly race that welcomes and celebrates runners of all experience and ability – a true representation of the diverse population of Cumberland County.
URL:https://ainsleysangels.org/single-event/running-the-ave-5k-2/
CATEGORIES:New Jersey,South Jersey
ATTACH;FMTTYPE=:
END:VEVENT
BEGIN:VEVENT
DTSTART;TZID=America/New_York:20260627T081500
DTEND;TZID=America/New_York:20260627T110000
DTSTAMP:20260420T005402
CREATED:20251231T021408Z
LAST-MODIFIED:20251231T021408Z
UID:10001345-1782548100-1782558000@ainsleysangels.org
SUMMARY:Pineland Striders Independence Day 5K & 10K
DESCRIPTION:Registration info coming soon
URL:https://ainsleysangels.org/single-event/pineland-striders-independence-day-5k-10k-2/
LOCATION:Shawee High School\, 600 Tabernacle Road\, Medford\, NJ\, 08055\, United States
CATEGORIES:New Jersey,South Jersey
ATTACH;FMTTYPE=:
END:VEVENT
END:VCALENDAR