BEGIN:VCALENDAR
VERSION:2.0
PRODID:-//Ainsley&#039;s Angels of America - ECPv6.15.20//NONSGML v1.0//EN
CALSCALE:GREGORIAN
METHOD:PUBLISH
X-ORIGINAL-URL:https://ainsleysangels.org
X-WR-CALDESC:Events for Ainsley&#039;s Angels of America
REFRESH-INTERVAL;VALUE=DURATION:PT1H
X-Robots-Tag:noindex
X-PUBLISHED-TTL:PT1H
BEGIN:VTIMEZONE
TZID:America/New_York
BEGIN:DAYLIGHT
TZOFFSETFROM:-0500
TZOFFSETTO:-0400
TZNAME:EDT
DTSTART:20250309T070000
END:DAYLIGHT
BEGIN:STANDARD
TZOFFSETFROM:-0400
TZOFFSETTO:-0500
TZNAME:EST
DTSTART:20251102T060000
END:STANDARD
BEGIN:DAYLIGHT
TZOFFSETFROM:-0500
TZOFFSETTO:-0400
TZNAME:EDT
DTSTART:20260308T070000
END:DAYLIGHT
BEGIN:STANDARD
TZOFFSETFROM:-0400
TZOFFSETTO:-0500
TZNAME:EST
DTSTART:20261101T060000
END:STANDARD
BEGIN:DAYLIGHT
TZOFFSETFROM:-0500
TZOFFSETTO:-0400
TZNAME:EDT
DTSTART:20270314T070000
END:DAYLIGHT
BEGIN:STANDARD
TZOFFSETFROM:-0400
TZOFFSETTO:-0500
TZNAME:EST
DTSTART:20271107T060000
END:STANDARD
END:VTIMEZONE
BEGIN:VEVENT
DTSTART;TZID=America/New_York:20260214T120000
DTEND;TZID=America/New_York:20260214T140000
DTSTAMP:20260422T231938
CREATED:20260115T203525Z
LAST-MODIFIED:20260115T203525Z
UID:10001369-1771070400-1771077600@ainsleysangels.org
SUMMARY:Mike's Seafood Valentines Day 5k - 1 mile walk For Autism
DESCRIPTION:2026 Mike’s Seafood Valentine’s Day 5K Run/Walk for Autism is on Saturday\, February 14\, 2026\, at JFK and the Boardwalk in Sea Isle City\, NJ\, 12:00 noon start. Proceeds benefit Special Services Schools\, Autism Support Groups\, Families of Special Needs Children\, and Autism Speaks. \nThis unique event encourages runners and walkers of all ages to participate with their families\, while supporting a worthwhile cause. Please review the event application for prize details for both men and women in the various age classifications for the 5K run. The walk is a non-competitive event. \nThen join us in the HUGE HEATED tents outside Excursion Park for Live Music\, an Awards Ceremony\, Door-Prizes\, and Magicians and Face Painting for the Kids!  All while enjoying a large Buffet consisting of: Bagels\, Donuts\, Pastries\, Soft Pretzels\, Fruit and Drinks. \nThe first 2\,000 pre-registered participants will receive a T-Shirt and are entered into the Door Prize Give-Away.   Race day T-Shirt available while supplies last.  
URL:https://ainsleysangels.org/single-event/mikes-seafood-valentines-day-5k-1-mile-walk-for-autism/
CATEGORIES:New Jersey,South Jersey
ATTACH;FMTTYPE=:
END:VEVENT
BEGIN:VEVENT
DTSTART;TZID=America/New_York:20260228T090000
DTEND;TZID=America/New_York:20260228T103000
DTSTAMP:20260422T231938
CREATED:20251231T015224Z
LAST-MODIFIED:20251231T015224Z
UID:10001339-1772269200-1772274600@ainsleysangels.org
SUMMARY:CHILLY TRIANGLE 5k
DESCRIPTION:Designed with PRs in mind\, Chilly Triangle is a fast & flat race around beautiful Knight Park in Collingswood\, NJ. Our fun race features age group awards and the proceeds will once again benefit Collingswood High School! \nThe race starts and ends near Browning Road and Magill Ave. You’ll run twice around Knight Park! \nBib pick-up begins on race day morning at 8:00am on February 28th\, located near the start\, within Knight Park. \nRace day parking is available along Magill Avenue\, Grant Avenue\, Harrison Ave\, as well as a small parking lot that is easily accessed from Collings Ave (in front of Collingswood High School). Limited parking will be available in the park. (Do not park on Browning Road).
URL:https://ainsleysangels.org/single-event/chilly-triangle-5k/
LOCATION:Knight Park\, Browning Road & Magill Ave\, Browning Road & Magill Ave\, Collingswood\, NJ\, 08108\, United States
CATEGORIES:New Jersey,South Jersey
ATTACH;FMTTYPE=:
END:VEVENT
END:VCALENDAR