BEGIN:VCALENDAR
VERSION:2.0
PRODID:-//Ainsley&#039;s Angels of America - ECPv6.15.20//NONSGML v1.0//EN
CALSCALE:GREGORIAN
METHOD:PUBLISH
X-WR-CALNAME:Ainsley&#039;s Angels of America
X-ORIGINAL-URL:https://ainsleysangels.org
X-WR-CALDESC:Events for Ainsley&#039;s Angels of America
REFRESH-INTERVAL;VALUE=DURATION:PT1H
X-Robots-Tag:noindex
X-PUBLISHED-TTL:PT1H
BEGIN:VTIMEZONE
TZID:America/New_York
BEGIN:DAYLIGHT
TZOFFSETFROM:-0500
TZOFFSETTO:-0400
TZNAME:EDT
DTSTART:20250309T070000
END:DAYLIGHT
BEGIN:STANDARD
TZOFFSETFROM:-0400
TZOFFSETTO:-0500
TZNAME:EST
DTSTART:20251102T060000
END:STANDARD
BEGIN:DAYLIGHT
TZOFFSETFROM:-0500
TZOFFSETTO:-0400
TZNAME:EDT
DTSTART:20260308T070000
END:DAYLIGHT
BEGIN:STANDARD
TZOFFSETFROM:-0400
TZOFFSETTO:-0500
TZNAME:EST
DTSTART:20261101T060000
END:STANDARD
BEGIN:DAYLIGHT
TZOFFSETFROM:-0500
TZOFFSETTO:-0400
TZNAME:EDT
DTSTART:20270314T070000
END:DAYLIGHT
BEGIN:STANDARD
TZOFFSETFROM:-0400
TZOFFSETTO:-0500
TZNAME:EST
DTSTART:20271107T060000
END:STANDARD
END:VTIMEZONE
BEGIN:VEVENT
DTSTART;TZID=America/New_York:20261003T153000
DTEND;TZID=America/New_York:20261003T220000
DTSTAMP:20260423T035823
CREATED:20260215T175335Z
LAST-MODIFIED:20260215T175335Z
UID:10001396-1791041400-1791064800@ainsleysangels.org
SUMMARY:Texas Twilight 5k race series
DESCRIPTION:Description\n\n\nLet’s show Houston\, TX what inclusion is all about! Run/Roll in this virtual event with us! \n\n\n\n\n\n\nPlace\n20235 Cypress Rosehill Rd\nTomball Event Center\nTomball\, TX US 77377\n\n\n  \nNELA Monroe Ainsley’s Angels will be participating in the event along with many other Ainsley’s Angels Ambassadorships.
URL:https://ainsleysangels.org/single-event/texas-twilight-5k-race-series/
LOCATION:20235 Cypress Rose Hill Rd\, Tomball\, TX 77377\, 20235 Cypress Rose Hill Rd\, Tomball\, TX\, 77377\, United States
CATEGORIES:Northeast Louisiana
ATTACH;FMTTYPE=:
END:VEVENT
BEGIN:VEVENT
DTSTART;TZID=America/New_York:20261107T153000
DTEND;TZID=America/New_York:20261107T203000
DTSTAMP:20260423T035823
CREATED:20260215T175904Z
LAST-MODIFIED:20260215T175904Z
UID:10001397-1794065400-1794083400@ainsleysangels.org
SUMMARY:11th Annual ROTR 5k Ainsley's Angels Race Series
DESCRIPTION:NELA Monroe Ainsley’s Angels is excited to be hosting our 11th Annual Ainsley’s Angels Race Series race in West Monroe\, LA at the Ike Hamilton. Several ambassadorships travel from several states to enjoy this evening race. \nPlace\n501 Mane St\nWest Monroe\, LA US 71291\n\nAinsley’s Angels 11th Annual Rollin On The River 5K
URL:https://ainsleysangels.org/single-event/11th-annual-rotr-5k-ainsleys-angels-race-series/
LOCATION:LA
CATEGORIES:Northeast Louisiana
ATTACH;FMTTYPE=:
END:VEVENT
END:VCALENDAR