BEGIN:VCALENDAR
VERSION:2.0
PRODID:-//Ainsley&#039;s Angels of America - ECPv6.15.20//NONSGML v1.0//EN
CALSCALE:GREGORIAN
METHOD:PUBLISH
X-WR-CALNAME:Ainsley&#039;s Angels of America
X-ORIGINAL-URL:https://ainsleysangels.org
X-WR-CALDESC:Events for Ainsley&#039;s Angels of America
REFRESH-INTERVAL;VALUE=DURATION:PT1H
X-Robots-Tag:noindex
X-PUBLISHED-TTL:PT1H
BEGIN:VTIMEZONE
TZID:America/New_York
BEGIN:DAYLIGHT
TZOFFSETFROM:-0500
TZOFFSETTO:-0400
TZNAME:EDT
DTSTART:20240310T070000
END:DAYLIGHT
BEGIN:STANDARD
TZOFFSETFROM:-0400
TZOFFSETTO:-0500
TZNAME:EST
DTSTART:20241103T060000
END:STANDARD
BEGIN:DAYLIGHT
TZOFFSETFROM:-0500
TZOFFSETTO:-0400
TZNAME:EDT
DTSTART:20250309T070000
END:DAYLIGHT
BEGIN:STANDARD
TZOFFSETFROM:-0400
TZOFFSETTO:-0500
TZNAME:EST
DTSTART:20251102T060000
END:STANDARD
BEGIN:DAYLIGHT
TZOFFSETFROM:-0500
TZOFFSETTO:-0400
TZNAME:EDT
DTSTART:20260308T070000
END:DAYLIGHT
BEGIN:STANDARD
TZOFFSETFROM:-0400
TZOFFSETTO:-0500
TZNAME:EST
DTSTART:20261101T060000
END:STANDARD
END:VTIMEZONE
BEGIN:VEVENT
DTSTART;TZID=America/New_York:20250913T163000
DTEND;TZID=America/New_York:20250913T200000
DTSTAMP:20260421T105952
CREATED:20250630T025226Z
LAST-MODIFIED:20250630T025226Z
UID:10001321-1757781000-1757793600@ainsleysangels.org
SUMMARY:NWLA Angel Banquet 2025
DESCRIPTION:Come join us for the 2nd annual Northwest Louisiana Angels Banquet! You can expect a night filled with good music\, excellent food\, fun-filled auctions\, and the best part….dancing with our very own Angels! \n4:30 – Doors Open \n5:15 – Dinner \n5:30 – 7:30 – Silent Auction \n7:45 – Live Auction \nRegister at: \nhttps://donate.ainsleysangels.org/event/nwla-angel-banquet-2025/e699874
URL:https://ainsleysangels.org/single-event/nwla-angel-banquet-2025/
LOCATION:Summer Grove Baptist Church\, 8924 Jewella Ave\, Shreveport\, LA\, 71106\, United States
CATEGORIES:Northwest Lousiana
ATTACH;FMTTYPE=image/webp:https://ainsleysangels.org/wp-content/uploads/2025/06/AA-scaled.webp
END:VEVENT
BEGIN:VEVENT
DTSTART;TZID=America/New_York:20250222T073000
DTEND;TZID=America/New_York:20250222T100000
DTSTAMP:20260421T105952
CREATED:20250216T032833Z
LAST-MODIFIED:20250216T032833Z
UID:10001292-1740209400-1740218400@ainsleysangels.org
SUMMARY:HES Anchor 5K
DESCRIPTION:The 2025 HES Anchor 5K will be held February 22nd at Haughton First Baptist Church
URL:https://ainsleysangels.org/single-event/hes-anchor-5k/
LOCATION:Haughton 1st Baptist Church\, 105 East Washington\, Haughton\, LA\, 71037\, United States
CATEGORIES:Northwest Lousiana
ATTACH;FMTTYPE=image/jpeg:https://ainsleysangels.org/wp-content/uploads/2025/02/HES.jpg
END:VEVENT
END:VCALENDAR