BEGIN:VCALENDAR
VERSION:2.0
PRODID:-//Ainsley&#039;s Angels of America - ECPv6.15.20//NONSGML v1.0//EN
CALSCALE:GREGORIAN
METHOD:PUBLISH
X-ORIGINAL-URL:https://ainsleysangels.org
X-WR-CALDESC:Events for Ainsley&#039;s Angels of America
REFRESH-INTERVAL;VALUE=DURATION:PT1H
X-Robots-Tag:noindex
X-PUBLISHED-TTL:PT1H
BEGIN:VTIMEZONE
TZID:America/New_York
BEGIN:DAYLIGHT
TZOFFSETFROM:-0500
TZOFFSETTO:-0400
TZNAME:EDT
DTSTART:20230312T070000
END:DAYLIGHT
BEGIN:STANDARD
TZOFFSETFROM:-0400
TZOFFSETTO:-0500
TZNAME:EST
DTSTART:20231105T060000
END:STANDARD
BEGIN:DAYLIGHT
TZOFFSETFROM:-0500
TZOFFSETTO:-0400
TZNAME:EDT
DTSTART:20240310T070000
END:DAYLIGHT
BEGIN:STANDARD
TZOFFSETFROM:-0400
TZOFFSETTO:-0500
TZNAME:EST
DTSTART:20241103T060000
END:STANDARD
BEGIN:DAYLIGHT
TZOFFSETFROM:-0500
TZOFFSETTO:-0400
TZNAME:EDT
DTSTART:20250309T070000
END:DAYLIGHT
BEGIN:STANDARD
TZOFFSETFROM:-0400
TZOFFSETTO:-0500
TZNAME:EST
DTSTART:20251102T060000
END:STANDARD
END:VTIMEZONE
BEGIN:VEVENT
DTSTART;TZID=America/New_York:20240726T150000
DTEND;TZID=America/New_York:20240726T170000
DTSTAMP:20260421T010808
CREATED:20240515T232624Z
LAST-MODIFIED:20240515T232624Z
UID:10000869-1722006000-1722013200@ainsleysangels.org
SUMMARY:NCI volunteers at Margarita Mayhem
DESCRIPTION:Have some time to volunteer?  Come support one of our favorite race directors volunteering at their race and they will give a donation to NCI.  Contact Kristy High to volunteer.
URL:https://ainsleysangels.org/single-event/nci-volunteers-at-margarita-mayhem/
LOCATION:White River State Park\, 650 West Washington Street\, Indianapolis\, IN\, 46204\, United States
CATEGORIES:Indiana,North Central Indiana
ATTACH;FMTTYPE=:
END:VEVENT
BEGIN:VEVENT
DTSTART;TZID=America/New_York:20240727T080000
DTEND;TZID=America/New_York:20240727T130000
DTSTAMP:20260421T010808
CREATED:20240225T181746Z
LAST-MODIFIED:20240225T181746Z
UID:10000797-1722067200-1722085200@ainsleysangels.org
SUMMARY:NCI runs Christmas in July
DESCRIPTION:We will have Angel teams in the 5K. Please contact Kristy or Misty to let us know you wish to participate. For those who want to run either distance and not push a chair\, please consider wearing your Ainsley’s Angels gear and be an Angel Ally out on the course.\nSanta is Bringing You Some Chillin’ Swag!\nChipped Timed Half Marathon or 5k\nVery Cool Sublimated Xmas Summer-themed Ultra-Lightweight Tech Shirts or Ladies Ultra-Lightweight Tech Shirt.\nReal Blinking Lights Snow Globe Finisher’s Medal\n*Half Marathon Includes Both a Christmas Running Hat & Sunglasses\n*5K Includes Sunglasses (Hat optional upgrade)\nCinch Sack\nCustom Bibs with Unique Surprising Christmas Names\nOverall and Age Group Medals/Prizes (Half & 5K)\nWater and Snacks Every mile (approx)\nFinish Line Elf’s Treats Frozen Treats\, Packag
URL:https://ainsleysangels.org/single-event/nci-runs-christmas-in-july/
LOCATION:IN
CATEGORIES:Indiana,North Central Indiana
ATTACH;FMTTYPE=image/jpeg:https://ainsleysangels.org/wp-content/uploads/2024/02/christmas.jpg
END:VEVENT
END:VCALENDAR