BEGIN:VCALENDAR
VERSION:2.0
PRODID:-//Ainsley&#039;s Angels of America - ECPv6.15.20//NONSGML v1.0//EN
CALSCALE:GREGORIAN
METHOD:PUBLISH
X-ORIGINAL-URL:https://ainsleysangels.org
X-WR-CALDESC:Events for Ainsley&#039;s Angels of America
REFRESH-INTERVAL;VALUE=DURATION:PT1H
X-Robots-Tag:noindex
X-PUBLISHED-TTL:PT1H
BEGIN:VTIMEZONE
TZID:America/New_York
BEGIN:DAYLIGHT
TZOFFSETFROM:-0500
TZOFFSETTO:-0400
TZNAME:EDT
DTSTART:20250309T070000
END:DAYLIGHT
BEGIN:STANDARD
TZOFFSETFROM:-0400
TZOFFSETTO:-0500
TZNAME:EST
DTSTART:20251102T060000
END:STANDARD
BEGIN:DAYLIGHT
TZOFFSETFROM:-0500
TZOFFSETTO:-0400
TZNAME:EDT
DTSTART:20260308T070000
END:DAYLIGHT
BEGIN:STANDARD
TZOFFSETFROM:-0400
TZOFFSETTO:-0500
TZNAME:EST
DTSTART:20261101T060000
END:STANDARD
BEGIN:DAYLIGHT
TZOFFSETFROM:-0500
TZOFFSETTO:-0400
TZNAME:EDT
DTSTART:20270314T070000
END:DAYLIGHT
BEGIN:STANDARD
TZOFFSETFROM:-0400
TZOFFSETTO:-0500
TZNAME:EST
DTSTART:20271107T060000
END:STANDARD
END:VTIMEZONE
BEGIN:VEVENT
DTSTART;TZID=America/New_York:20260502T063000
DTEND;TZID=America/New_York:20260502T140000
DTSTAMP:20260420T033014
CREATED:20260419T231742Z
LAST-MODIFIED:20260419T231742Z
UID:10001456-1777703400-1777730400@ainsleysangels.org
SUMMARY:AAA run the Mini
DESCRIPTION:Join us for the 50th running. See us at the Expo\, join the family dinner the night before and stop by the tent after the race. This is one of our favorite weekends of the year! Contact Kristy or Misty for full info.
URL:https://ainsleysangels.org/single-event/aaa-run-the-mini/
LOCATION:NCAA Hall of Champions\, 700 W Washington St\, Indianapolis\, IN\, 46204\, United States
CATEGORIES:Indiana,North Central Indiana
ATTACH;FMTTYPE=:
END:VEVENT
BEGIN:VEVENT
DTSTART;TZID=America/New_York:20260502T070000
DTEND;TZID=America/New_York:20260502T150000
DTSTAMP:20260420T033014
CREATED:20260318T022746Z
LAST-MODIFIED:20260318T022746Z
UID:10001447-1777705200-1777734000@ainsleysangels.org
SUMMARY:NCI runs Mini Marathon
DESCRIPTION:Have you ever considered running the IU Health Mini Marathon race in Indianapolis\, IN?  Does the thought of running around the Indy 500 motor speedway excite you?  We are looking to show the world what inclusion looks like at the 50th running of this historical race!  Please reach out to Kristy or Misty and let us know your interest. \nCome and join the over 20\,000 participants from around the world for the 50th Running of the IU Health 500 Festival Mini-Marathon on May 2\, 2026! \nThe 500 Festival Mini-Marathon is a must-do event for participants of all levels and abilities. Take part in this iconic half-marathon that starts in downtown Indy and includes a 2.5-mile lap around the famous Indianapolis Motor Speedway. As a tradition\, participants even get to kiss the bricks at the renowned Yard of Bricks on the oval track! \nThis flat and fast course is filled with friendly volunteers and over 100 entertainers along the way\, making it an unforgettable experience. \nAfter the race\, participants celebrate their accomplishments with friends and family at the free 500 Festival Post Race Party\, presented by PNC Bank\, featuring an entertainment stage\, free massages\, a bottle of chocolate milk at the American Dairy Association Refuel & Rejuvenation Area\, merchandise\, and more! \nNamed “America’s Best Half Marathon” by US Today’s 10Best and recognized as one of “America’s Most Iconic Races” by Runners World\, the 500 Festival Mini-Marathon attracts participants from all 50 states and over 16 countries. Don’t miss your chance to be a part of this legendary race and join the thousands who have already experienced The Greatest Spectacle in Running®.
URL:https://ainsleysangels.org/single-event/nci-runs-mini-marathon/
LOCATION:IN
CATEGORIES:Indiana,North Central Indiana
ATTACH;FMTTYPE=:
END:VEVENT
BEGIN:VEVENT
DTSTART;TZID=America/New_York:20260801T070000
DTEND;TZID=America/New_York:20260801T120000
DTSTAMP:20260420T033014
CREATED:20260419T231303Z
LAST-MODIFIED:20260419T231303Z
UID:10001455-1785567600-1785585600@ainsleysangels.org
SUMMARY:Ainsley's Angels runs Royal Beast
DESCRIPTION:Want to join us for some miles at the Royal Beast? Run as many miles as you like. We will set up our tent and have food and drink for everyone to enjoy. This is a good venue to get some miles in if you are training for the Air Force or Marine Corps Marathons. Contact Kristy or Misty and let us know if you will be joining us. We have a code for riders.
URL:https://ainsleysangels.org/single-event/ainsleys-angels-runs-royal-beast/
LOCATION:Southeastway Park\, 5624 S Carroll Rd\, New Palestine\, IN\, United States
CATEGORIES:Indiana,North Central Indiana
ATTACH;FMTTYPE=:
END:VEVENT
END:VCALENDAR