BEGIN:VCALENDAR
VERSION:2.0
PRODID:-//Ainsley&#039;s Angels of America - ECPv6.15.20//NONSGML v1.0//EN
CALSCALE:GREGORIAN
METHOD:PUBLISH
X-ORIGINAL-URL:https://ainsleysangels.org
X-WR-CALDESC:Events for Ainsley&#039;s Angels of America
REFRESH-INTERVAL;VALUE=DURATION:PT1H
X-Robots-Tag:noindex
X-PUBLISHED-TTL:PT1H
BEGIN:VTIMEZONE
TZID:America/New_York
BEGIN:DAYLIGHT
TZOFFSETFROM:-0500
TZOFFSETTO:-0400
TZNAME:EDT
DTSTART:20220313T070000
END:DAYLIGHT
BEGIN:STANDARD
TZOFFSETFROM:-0400
TZOFFSETTO:-0500
TZNAME:EST
DTSTART:20221106T060000
END:STANDARD
BEGIN:DAYLIGHT
TZOFFSETFROM:-0500
TZOFFSETTO:-0400
TZNAME:EDT
DTSTART:20230312T070000
END:DAYLIGHT
BEGIN:STANDARD
TZOFFSETFROM:-0400
TZOFFSETTO:-0500
TZNAME:EST
DTSTART:20231105T060000
END:STANDARD
BEGIN:DAYLIGHT
TZOFFSETFROM:-0500
TZOFFSETTO:-0400
TZNAME:EDT
DTSTART:20240310T070000
END:DAYLIGHT
BEGIN:STANDARD
TZOFFSETFROM:-0400
TZOFFSETTO:-0500
TZNAME:EST
DTSTART:20241103T060000
END:STANDARD
END:VTIMEZONE
BEGIN:VEVENT
DTSTART;TZID=America/New_York:20230506T070000
DTEND;TZID=America/New_York:20230506T170000
DTSTAMP:20260419T232114
CREATED:20230312T235600Z
LAST-MODIFIED:20230312T235932Z
UID:10000633-1683356400-1683392400@ainsleysangels.org
SUMMARY:Ainsley's Angels runs the Mini
DESCRIPTION:Are you interested in participating in the Indy Mini Marathon with Ainsley’s Angels? Please contact Kristy today for details.  Join us for the greatest spectacle in running.  This is a fast\, flat 1/2 marathon that runs around the Indianapolis Motor Speedway.  We are a charity partner with the Indy Mini and this is a fun destination race.  Come enjoy what downtown Indianapolis has to offer.  Enjoy the Ainsley’s Angels family meal the night before the Mini and the festival after the race.
URL:https://ainsleysangels.org/single-event/ainsleys-angels-runs-the-mini/
LOCATION:OH
CATEGORIES:Bedford,Indiana,North Central Indiana
ATTACH;FMTTYPE=:
END:VEVENT
END:VCALENDAR