BEGIN:VCALENDAR
VERSION:2.0
PRODID:-//Ainsley&#039;s Angels of America - ECPv6.15.20//NONSGML v1.0//EN
CALSCALE:GREGORIAN
METHOD:PUBLISH
X-WR-CALNAME:Ainsley&#039;s Angels of America
X-ORIGINAL-URL:https://ainsleysangels.org
X-WR-CALDESC:Events for Ainsley&#039;s Angels of America
REFRESH-INTERVAL;VALUE=DURATION:PT1H
X-Robots-Tag:noindex
X-PUBLISHED-TTL:PT1H
BEGIN:VTIMEZONE
TZID:America/New_York
BEGIN:DAYLIGHT
TZOFFSETFROM:-0500
TZOFFSETTO:-0400
TZNAME:EDT
DTSTART:20220313T070000
END:DAYLIGHT
BEGIN:STANDARD
TZOFFSETFROM:-0400
TZOFFSETTO:-0500
TZNAME:EST
DTSTART:20221106T060000
END:STANDARD
BEGIN:DAYLIGHT
TZOFFSETFROM:-0500
TZOFFSETTO:-0400
TZNAME:EDT
DTSTART:20230312T070000
END:DAYLIGHT
BEGIN:STANDARD
TZOFFSETFROM:-0400
TZOFFSETTO:-0500
TZNAME:EST
DTSTART:20231105T060000
END:STANDARD
BEGIN:DAYLIGHT
TZOFFSETFROM:-0500
TZOFFSETTO:-0400
TZNAME:EDT
DTSTART:20240310T070000
END:DAYLIGHT
BEGIN:STANDARD
TZOFFSETFROM:-0400
TZOFFSETTO:-0500
TZNAME:EST
DTSTART:20241103T060000
END:STANDARD
END:VTIMEZONE
BEGIN:VEVENT
DTSTART;TZID=America/New_York:20230408T140000
DTEND;TZID=America/New_York:20230408T160000
DTSTAMP:20260419T195531
CREATED:20230312T224550Z
LAST-MODIFIED:20230312T224550Z
UID:10000632-1680962400-1680969600@ainsleysangels.org
SUMMARY:NCI runs Easter Egg 5K
DESCRIPTION:Contact Kristy or Misty if you want to participate.\nEaster Egg 5K\nIs back Downtown at the beautiful White River State Park!\nHip Hop Hooray!!!\nRun/Walk a 5K on April 8th and Finish right into the Easter Egg Party!\nBring the Whole Family for a Hoppy Good Time!\nEaster Egg Hunt for All Ages to Enjoy!\nLittle Kids Dasher Egg Hunters\nGrade Schooler Kids Dasher Egg Hunters\n5k Kids Egg Hunters\n5k All Ages Egg Hunters\nAll New 5K Adults Only (21+) Egg Hunters\nWinning Egg Prizes for All Ages!\nBest part is treating yourself to a Yummy Cupcake and Wine/Beer (21+) or Root Beer!\n*Must be registered for the Kids Dash to participate in the Kids Dash Egg Hunt.\n*Must be registered for the 5K to participate in the 5K Egg Hunt.\n5K Registration Includes Hoppy Swag!\n5K Starts at 11:00am\nEaster Race Bib\nEaster Egg Finishers Medal!\nChipped Timed 5k\nAge group Awards & Prizes\nYummy Cupcakes!!!\nEasley Wine or Beer (21+)\, or Root Beer\nEaster Egg Hunt for Adults and Children (Some Eggs Redeem for Prizes!!!)\nFree Photos with Fun Backdrops and Picture Frames\nLive Music with DJ Jazzy Jett\n*Optional T-Shirt Upgrade\n*In order to keep prices low and reduce the high price inflations\, sorry we will not be including easter shirts. However we will be offering an option to purchase shirts online!\nKids Dash Registration Includes Hoppy Swag!\nKids Dash Starts at 10:50am\nEaster Race Bib\nEaster Egg Finishers Medal!\nYummy Cupcakes!!!\nRoot Beer\n2 – Chances for Hunting Eggs!!! 1st – Age Destignaed Time (see below)! 2nd – As the kiddos finish the Kids Dash!\nWinning Eggs Have Fun Kid Prizes!\nFree Photos with Fun Backdrops and Picture Frames\n*Optional T-Shirt Upgradee
URL:https://ainsleysangels.org/single-event/nci-runs-easter-egg-5k/
LOCATION:White River State Park\, 650 West Washington Street\, Indianapolis\, IN\, 46204\, United States
CATEGORIES:Indiana,North Central Indiana
ATTACH;FMTTYPE=:
END:VEVENT
END:VCALENDAR