BEGIN:VCALENDAR
VERSION:2.0
PRODID:-//Ainsley&#039;s Angels of America - ECPv6.15.20//NONSGML v1.0//EN
CALSCALE:GREGORIAN
METHOD:PUBLISH
X-WR-CALNAME:Ainsley&#039;s Angels of America
X-ORIGINAL-URL:https://ainsleysangels.org
X-WR-CALDESC:Events for Ainsley&#039;s Angels of America
REFRESH-INTERVAL;VALUE=DURATION:PT1H
X-Robots-Tag:noindex
X-PUBLISHED-TTL:PT1H
BEGIN:VTIMEZONE
TZID:America/New_York
BEGIN:DAYLIGHT
TZOFFSETFROM:-0500
TZOFFSETTO:-0400
TZNAME:EDT
DTSTART:20230312T070000
END:DAYLIGHT
BEGIN:STANDARD
TZOFFSETFROM:-0400
TZOFFSETTO:-0500
TZNAME:EST
DTSTART:20231105T060000
END:STANDARD
BEGIN:DAYLIGHT
TZOFFSETFROM:-0500
TZOFFSETTO:-0400
TZNAME:EDT
DTSTART:20240310T070000
END:DAYLIGHT
BEGIN:STANDARD
TZOFFSETFROM:-0400
TZOFFSETTO:-0500
TZNAME:EST
DTSTART:20241103T060000
END:STANDARD
BEGIN:DAYLIGHT
TZOFFSETFROM:-0500
TZOFFSETTO:-0400
TZNAME:EDT
DTSTART:20250309T070000
END:DAYLIGHT
BEGIN:STANDARD
TZOFFSETFROM:-0400
TZOFFSETTO:-0500
TZNAME:EST
DTSTART:20251102T060000
END:STANDARD
END:VTIMEZONE
BEGIN:VEVENT
DTSTART;TZID=America/New_York:20240907T080000
DTEND;TZID=America/New_York:20240907T110000
DTSTAMP:20260420T112042
CREATED:20240529T011852Z
LAST-MODIFIED:20240529T011852Z
UID:10000892-1725696000-1725706800@ainsleysangels.org
SUMMARY:NCI runs 9/11 Tribute Challenge
DESCRIPTION:We will be participating in the 5K with angel teams. Please contact Kristy or Misty if you want to participate with an angel team. We have a discount code for runners lending their legs in angel teams-contact us before you register.\nHonor those who gave their lives in the Towers on 9/11 by participating in 1 of 3 events to take place on 9/07/2023 from 8:00AM to 3:00PM at the Kokomo Jack Rabbits Stadium. The money raise will be split equally between the Marty Meyers Scholarship Foundation(Kokomo Fire Department)\, Carl Koontz (Howard County Sheriffs Department) Scholarship Foundation\, and the FOP Scholarship Foundation ( Kokomo Police Department)cko
URL:https://ainsleysangels.org/single-event/nci-runs-9-11-tribute-challenge/
LOCATION:Kokomo Municipal Stadium\, 400 S Union St\, Kokomo\,  IN 46901\, 400 S Union St\, Kokomo\, IN\, 46901\, United States
CATEGORIES:Indiana,North Central Indiana
ATTACH;FMTTYPE=:
END:VEVENT
END:VCALENDAR