BEGIN:VCALENDAR
VERSION:2.0
PRODID:-//Ainsley&#039;s Angels of America - ECPv6.15.20//NONSGML v1.0//EN
CALSCALE:GREGORIAN
METHOD:PUBLISH
X-WR-CALNAME:Ainsley&#039;s Angels of America
X-ORIGINAL-URL:https://ainsleysangels.org
X-WR-CALDESC:Events for Ainsley&#039;s Angels of America
REFRESH-INTERVAL;VALUE=DURATION:PT1H
X-Robots-Tag:noindex
X-PUBLISHED-TTL:PT1H
BEGIN:VTIMEZONE
TZID:America/New_York
BEGIN:DAYLIGHT
TZOFFSETFROM:-0500
TZOFFSETTO:-0400
TZNAME:EDT
DTSTART:20230312T070000
END:DAYLIGHT
BEGIN:STANDARD
TZOFFSETFROM:-0400
TZOFFSETTO:-0500
TZNAME:EST
DTSTART:20231105T060000
END:STANDARD
BEGIN:DAYLIGHT
TZOFFSETFROM:-0500
TZOFFSETTO:-0400
TZNAME:EDT
DTSTART:20240310T070000
END:DAYLIGHT
BEGIN:STANDARD
TZOFFSETFROM:-0400
TZOFFSETTO:-0500
TZNAME:EST
DTSTART:20241103T060000
END:STANDARD
BEGIN:DAYLIGHT
TZOFFSETFROM:-0500
TZOFFSETTO:-0400
TZNAME:EDT
DTSTART:20250309T070000
END:DAYLIGHT
BEGIN:STANDARD
TZOFFSETFROM:-0400
TZOFFSETTO:-0500
TZNAME:EST
DTSTART:20251102T060000
END:STANDARD
END:VTIMEZONE
BEGIN:VEVENT
DTSTART;TZID=America/New_York:20240608T080000
DTEND;TZID=America/New_York:20240608T100000
DTSTAMP:20260421T032750
CREATED:20240515T232247Z
LAST-MODIFIED:20240515T232247Z
UID:10000868-1717833600-1717840800@ainsleysangels.org
SUMMARY:NCI Library Bike Rally
DESCRIPTION:Come join us at the Russiaville library for the annual safety bike rally.  We will have a booth promoting inclusion.  There will be an axiom chariot attached to a bike for anyone to try out.  The library has give aways.  Come out and enjoy.
URL:https://ainsleysangels.org/single-event/nci-library-bike-rally/
LOCATION:Russiaville Library\, Russiaville\, IN\, United States
CATEGORIES:Indiana,North Central Indiana
ATTACH;FMTTYPE=:
END:VEVENT
BEGIN:VEVENT
DTSTART;TZID=America/New_York:20240629T080000
DTEND;TZID=America/New_York:20240629T110000
DTSTAMP:20260421T032750
CREATED:20240515T231607Z
LAST-MODIFIED:20240515T231607Z
UID:10000867-1719648000-1719658800@ainsleysangels.org
SUMMARY:NCI at Morse Park Triathlon
DESCRIPTION:Our friends at Tuxedo Brothers have welcomed us to participate in the Morse Park Triathlon at the Morse Park and Beach in Noblesville. Please reach out to Misty or Kristy to express your interest in participating. We will need several Sherpas in addition to those swimming/biking/running to make this event smooth and fun for our Team Captains.e
URL:https://ainsleysangels.org/single-event/nci-at-morse-park-triathlon/
LOCATION:Morse Beach\, 19777 Morse Park Ln\, Noblesville\, IN\, United States
CATEGORIES:Indiana,North Central Indiana
ATTACH;FMTTYPE=:
END:VEVENT
END:VCALENDAR