BEGIN:VCALENDAR
VERSION:2.0
PRODID:-//Ainsley&#039;s Angels of America - ECPv6.15.20//NONSGML v1.0//EN
CALSCALE:GREGORIAN
METHOD:PUBLISH
X-ORIGINAL-URL:https://ainsleysangels.org
X-WR-CALDESC:Events for Ainsley&#039;s Angels of America
REFRESH-INTERVAL;VALUE=DURATION:PT1H
X-Robots-Tag:noindex
X-PUBLISHED-TTL:PT1H
BEGIN:VTIMEZONE
TZID:America/New_York
BEGIN:DAYLIGHT
TZOFFSETFROM:-0500
TZOFFSETTO:-0400
TZNAME:EDT
DTSTART:20230312T070000
END:DAYLIGHT
BEGIN:STANDARD
TZOFFSETFROM:-0400
TZOFFSETTO:-0500
TZNAME:EST
DTSTART:20231105T060000
END:STANDARD
BEGIN:DAYLIGHT
TZOFFSETFROM:-0500
TZOFFSETTO:-0400
TZNAME:EDT
DTSTART:20240310T070000
END:DAYLIGHT
BEGIN:STANDARD
TZOFFSETFROM:-0400
TZOFFSETTO:-0500
TZNAME:EST
DTSTART:20241103T060000
END:STANDARD
BEGIN:DAYLIGHT
TZOFFSETFROM:-0500
TZOFFSETTO:-0400
TZNAME:EDT
DTSTART:20250309T070000
END:DAYLIGHT
BEGIN:STANDARD
TZOFFSETFROM:-0400
TZOFFSETTO:-0500
TZNAME:EST
DTSTART:20251102T060000
END:STANDARD
BEGIN:DAYLIGHT
TZOFFSETFROM:-0500
TZOFFSETTO:-0400
TZNAME:EDT
DTSTART:20260308T070000
END:DAYLIGHT
BEGIN:STANDARD
TZOFFSETFROM:-0400
TZOFFSETTO:-0500
TZNAME:EST
DTSTART:20261101T060000
END:STANDARD
BEGIN:DAYLIGHT
TZOFFSETFROM:-0500
TZOFFSETTO:-0400
TZNAME:EDT
DTSTART:20270314T070000
END:DAYLIGHT
BEGIN:STANDARD
TZOFFSETFROM:-0400
TZOFFSETTO:-0500
TZNAME:EST
DTSTART:20271107T060000
END:STANDARD
END:VTIMEZONE
BEGIN:VEVENT
DTSTART;TZID=America/New_York:20260411T080000
DTEND;TZID=America/New_York:20260411T090000
DTSTAMP:20260420T031325
CREATED:20251221T215255Z
LAST-MODIFIED:20251221T220006Z
UID:10001337-1775894400-1775898000@ainsleysangels.org
SUMMARY:Great Locomotive Chase 5K - Adairsville GA
DESCRIPTION:April 11th  Saturday 8:00 AM\nGreat Locomotive Chase 5K\nhttps://www.adairsvillega.net/community/events/great_locomotive_chase_5k.php
URL:https://ainsleysangels.org/single-event/great-locomotive-chase-5k/
LOCATION:GA
CATEGORIES:North Georgia
ATTACH;FMTTYPE=:
END:VEVENT
BEGIN:VEVENT
DTSTART;TZID=America/New_York:20260321T083000
DTEND;TZID=America/New_York:20260321T093000
DTSTAMP:20260420T031325
CREATED:20251221T212512Z
LAST-MODIFIED:20251221T220039Z
UID:10001336-1774081800-1774085400@ainsleysangels.org
SUMMARY:5K Run Walk to Remember - Lavonia GA
DESCRIPTION:Mar 21st Saturday 8:30 AM \n5K Run Walk to Remember  –  Lavonia GA \nhttps://runsignup.com/Race/GA/Lavonia/RunWalktoRemember5K
URL:https://ainsleysangels.org/single-event/5k-run-walk-to-remember/
LOCATION:GA
CATEGORIES:North Georgia
ATTACH;FMTTYPE=:
END:VEVENT
BEGIN:VEVENT
DTSTART;TZID=America/New_York:20260321T080000
DTEND;TZID=America/New_York:20260321T100000
DTSTAMP:20260420T031325
CREATED:20260222T220902Z
LAST-MODIFIED:20260222T220902Z
UID:10001414-1774080000-1774087200@ainsleysangels.org
SUMMARY:Brightside Cafe Bunny Run 5K  -  Buford GA
DESCRIPTION:Mar 21st Saturday 8:00 AM\nBrightside Café Bunny Run – Buford GA\nhttps://www.fundracers.org/Info.aspx?url=brightsidebunnyrun.com
URL:https://ainsleysangels.org/single-event/brightside-cafe-bunny-run-5k-buford-ga/
LOCATION:GA
CATEGORIES:North Georgia
ATTACH;FMTTYPE=:
END:VEVENT
BEGIN:VEVENT
DTSTART;TZID=America/New_York:20260307T090000
DTEND;TZID=America/New_York:20260307T110000
DTSTAMP:20260420T031325
CREATED:20260222T220552Z
LAST-MODIFIED:20260222T220552Z
UID:10001412-1772874000-1772881200@ainsleysangels.org
SUMMARY:Joni & Friends Walk and Roll 5K  - John's Creek GA
DESCRIPTION:Saturday March 7th 9:00 AM\nJoni & Friends Walk and Roll 5K  –  John’s Creek GA \nhttps://joniandfriends.org/event/walk-n-roll-5k-georgia-johns-creek/
URL:https://ainsleysangels.org/single-event/joni-friends-walk-and-roll-5k-johns-creek-ga/
LOCATION:GA
CATEGORIES:North Georgia
ATTACH;FMTTYPE=:
END:VEVENT
BEGIN:VEVENT
DTSTART;TZID=America/New_York:20260214T080000
DTEND;TZID=America/New_York:20260214T090000
DTSTAMP:20260420T031325
CREATED:20251221T212134Z
LAST-MODIFIED:20251221T220052Z
UID:10001335-1771056000-1771059600@ainsleysangels.org
SUMMARY:Valentine's Day Sole Mates 5K -Cumming GA
DESCRIPTION:Feb 14th Saturday 8:00 AM \nSole Mates 5K  –  Cumming GA \nhttps://runsignup.com/Race/GA/Cumming/SoleMates5k
URL:https://ainsleysangels.org/single-event/valentines-day-sole-mates-5k/
LOCATION:GA
CATEGORIES:North Georgia
ATTACH;FMTTYPE=:
END:VEVENT
BEGIN:VEVENT
DTSTART;TZID=America/New_York:20260201T140000
DTEND;TZID=America/New_York:20260201T150000
DTSTAMP:20260420T031325
CREATED:20251221T211802Z
LAST-MODIFIED:20251221T220109Z
UID:10001334-1769954400-1769958000@ainsleysangels.org
SUMMARY:Blue Ribbon Run 5K - Gainesville GA
DESCRIPTION:Feb 1st Sunday 2:00 PM \nBlue Ribbon 5K  –  Gainesville GA \nhttps://runsignup.com/blueribbon5k
URL:https://ainsleysangels.org/single-event/blue-ribbon-run-5k/
LOCATION:GA
CATEGORIES:North Georgia
ATTACH;FMTTYPE=:
END:VEVENT
BEGIN:VEVENT
DTSTART;TZID=America/New_York:20250502T170000
DTEND;TZID=America/New_York:20250502T203000
DTSTAMP:20260420T031325
CREATED:20250428T113029Z
LAST-MODIFIED:20250501T000931Z
UID:10001303-1746205200-1746217800@ainsleysangels.org
SUMMARY:Max's Moon Run 5K  - Suwanee Town Center
DESCRIPTION:Event Details \nMax’s Moon Run is Friday\, May 2nd at Suwanee Town Center\, 330 Town Center Avenue\, Suwanee\, GA 30024 \nPacket Pick-Up \n 6-8 p.m. April 30th\, Packet Pick-up at Big Peach Running \nWhere: 320 Town Center Ave\, Suwanee\, GA 30024 \nRACE DAY SCHEDULE \n5 p.m.- walk-up registrations opens \n6:30 p.m.- Surprise Presentation & Warm-Ups \n7 p.m. Fun Run for kids ages 12 and under \n7:10 p.m. 5k \n8:30 Awards \nScoot Teasley and his band will be performing on the on the big stage all night! There will be vendors\, food trucks\, kid activities- including complimentary face painting\, glow accessories\, and inflatables – something for everyone! Bring a blanket or folding chair and settle in for a night of fun\, benefitting the Maximus Janton Foundation\, which serves the special needs community.n
URL:https://ainsleysangels.org/single-event/maxs-moon-run-5k-suwanee-town-center/
LOCATION:Suwanee Town Center\, 320 Town Center Ave\, Suwanee\, GA\, 30024
CATEGORIES:North Georgia
ATTACH;FMTTYPE=:
END:VEVENT
BEGIN:VEVENT
DTSTART;TZID=America/New_York:20240824T073000
DTEND;TZID=America/New_York:20240824T083000
DTSTAMP:20260420T031325
CREATED:20240608T181752Z
LAST-MODIFIED:20240608T181752Z
UID:10000896-1724484600-1724488200@ainsleysangels.org
SUMMARY:Hot Dam 5K On Saturday August 24th 2024 7:30 AM in Hartwell GA
DESCRIPTION:Join us for inaugural Hot Dam 5K  in Hartwell GA on Saturday August 24th 2024 at 7:30 AM. \n  \nhttps://runsignup.com/Race/GA/Hartwell/2024HotDam5K \n  \nInformation on registrations will be forthcoming. \nTo find out more\, reach out to Scooter Sayers at 479-461-1672 or northgeorgia@ainsleysangels.org
URL:https://ainsleysangels.org/single-event/hot-dam-5k-on-saturday-august-24th-2024-730-am-in-hartwell-ga/
LOCATION:5823 Dam Road Big Oaks Recreation Area Hartwell\, GA US 30643
CATEGORIES:North Georgia
ATTACH;FMTTYPE=:
END:VEVENT
BEGIN:VEVENT
DTSTART;TZID=America/New_York:20240726T181500
DTEND;TZID=America/New_York:20240726T191500
DTSTAMP:20260420T031325
CREATED:20240608T175706Z
LAST-MODIFIED:20240608T181030Z
UID:10000895-1722017700-1722021300@ainsleysangels.org
SUMMARY:Syfan Logistics Rally 5K - Friday June 26th 2024 in Gainesville GA
DESCRIPTION:Join us for the Syfan Logistics Rally 5K on Friday June 26th at 6:15 PM  on the Midland Greenway in Gainesville GA. \nThis marks the 2nd year in a row for Ainsley’s Angels of North Georgia to participate. It’s a great course with lots of open green space at the start/finish\, and is just a few blocks south of downtown Gainesville.  Make it a full evening event! \nhttps://runsignup.com/syfannd G \nAll riders and runners get a free registration.  This is a great evening event that you don’t want to miss. \nTo find out more\, reach out to Scooter Sayers at 479-461-1672 or northgeorgia@ainsleysangels.org
URL:https://ainsleysangels.org/single-event/syfan-logistics-rally-5k-friday-june-26th-2024-in-gainesville-ga/
LOCATION:Midland Greenway\, 682 Grove Street\, Gainesville\, GA\, United States
CATEGORIES:North Georgia
ATTACH;FMTTYPE=:
END:VEVENT
BEGIN:VEVENT
DTSTART;TZID=America/New_York:20240704T083000
DTEND;TZID=America/New_York:20240704T093000
DTSTAMP:20260420T031325
CREATED:20240608T175007Z
LAST-MODIFIED:20240608T175007Z
UID:10000894-1720081800-1720085400@ainsleysangels.org
SUMMARY:Run\, White and Blue 5K / 10K - July 4th 2024 Alpharetta GA
DESCRIPTION:Join us for Big Peach in Cumming’s Run White and Blue 5K /10K at Halcyon in Alpharetta GA on Thursday July 4th 2024. \nThis marks the 2nd year in a row for Ainsley’s Angels of North Georgia to participate\, and the 2nd year in a row that we will be the benefactor of this event.  That’s right\, all donations made will go directly to our ambassadorship! \nhttps://runsignup.com/runwhiteandblue \nAll riders get a free registration\, and all pushers get a discounted $20 registration. \nTo find out more\, reach out to Scooter Sayers at 479-461-1672 or northgeorgia@ainsleysangels.org
URL:https://ainsleysangels.org/single-event/run-white-and-blue-5k-10k-july-4th-2024-alpharetta-ga/
LOCATION:Halcyon\, 6365 Halcyon Way\, Alpharetta\, GA\, 30005\, United States
CATEGORIES:North Georgia
ATTACH;FMTTYPE=:
END:VEVENT
BEGIN:VEVENT
DTSTART;TZID=America/New_York:20240608T083000
DTEND;TZID=America/New_York:20240608T093000
DTSTAMP:20260420T031325
CREATED:20240606T014224Z
LAST-MODIFIED:20240606T014224Z
UID:10000893-1717835400-1717839000@ainsleysangels.org
SUMMARY:St Brendan NaviGator 5K  - Alpharetta (Halcyon)
DESCRIPTION:Come join Ainsley’s Angels of North Georgia at the St Brendan NaviGator 5K on Saturday June 8th\, at Halcyon in Alpharetta.  The 5K starts at 8:30 am. \nContact Scooter Sayers at 479-461-1672 or northgeorgia@ainsleysangels.org for links to register. \n  \nhttps://runsignup.com/navigator
URL:https://ainsleysangels.org/single-event/st-brendan-navigator-5k-alpharetta-halcyon/
LOCATION:Halcyon\, 6365 Halcyon Way\, Alpharetta\, GA\, 30005\, United States
CATEGORIES:North Georgia
ATTACH;FMTTYPE=:
END:VEVENT
END:VCALENDAR