BEGIN:VCALENDAR
VERSION:2.0
PRODID:-//Ainsley&#039;s Angels of America - ECPv6.15.20//NONSGML v1.0//EN
CALSCALE:GREGORIAN
METHOD:PUBLISH
X-WR-CALNAME:Ainsley&#039;s Angels of America
X-ORIGINAL-URL:https://ainsleysangels.org
X-WR-CALDESC:Events for Ainsley&#039;s Angels of America
REFRESH-INTERVAL;VALUE=DURATION:PT1H
X-Robots-Tag:noindex
X-PUBLISHED-TTL:PT1H
BEGIN:VTIMEZONE
TZID:America/New_York
BEGIN:DAYLIGHT
TZOFFSETFROM:-0500
TZOFFSETTO:-0400
TZNAME:EDT
DTSTART:20250309T070000
END:DAYLIGHT
BEGIN:STANDARD
TZOFFSETFROM:-0400
TZOFFSETTO:-0500
TZNAME:EST
DTSTART:20251102T060000
END:STANDARD
BEGIN:DAYLIGHT
TZOFFSETFROM:-0500
TZOFFSETTO:-0400
TZNAME:EDT
DTSTART:20260308T070000
END:DAYLIGHT
BEGIN:STANDARD
TZOFFSETFROM:-0400
TZOFFSETTO:-0500
TZNAME:EST
DTSTART:20261101T060000
END:STANDARD
BEGIN:DAYLIGHT
TZOFFSETFROM:-0500
TZOFFSETTO:-0400
TZNAME:EDT
DTSTART:20270314T070000
END:DAYLIGHT
BEGIN:STANDARD
TZOFFSETFROM:-0400
TZOFFSETTO:-0500
TZNAME:EST
DTSTART:20271107T060000
END:STANDARD
END:VTIMEZONE
BEGIN:VEVENT
DTSTART;TZID=America/New_York:20260508T163000
DTEND;TZID=America/New_York:20260508T183000
DTSTAMP:20260419T225250
CREATED:20260222T221416Z
LAST-MODIFIED:20260222T221416Z
UID:10001416-1778257800-1778265000@ainsleysangels.org
SUMMARY:Max's Moon Run 5K  -  Suwanee GA
DESCRIPTION:May 8TH Friday 6:30 PM \nMax’s Moon Run 5K  –  Suwanee GA\nhttps://www.maximusjantonfoundation.org/maxs-moon-run5k
URL:https://ainsleysangels.org/single-event/maxs-moon-run-5k-suwanee-ga/
LOCATION:GA
CATEGORIES:North Georgia
ATTACH;FMTTYPE=:
END:VEVENT
BEGIN:VEVENT
DTSTART;TZID=America/New_York:20260516T090000
DTEND;TZID=America/New_York:20260516T110000
DTSTAMP:20260419T225250
CREATED:20260222T221709Z
LAST-MODIFIED:20260222T221709Z
UID:10001418-1778922000-1778929200@ainsleysangels.org
SUMMARY:Spring Fun Run 5K  -  Flowery Branch GA
DESCRIPTION:May 16th Saturday  9:00 AM\nFlowery Branch Spring 5K FUN Run – Flowery Branch GA\nhttps://runsignup.com/springfunrun
URL:https://ainsleysangels.org/single-event/spring-fun-run-5k-flowery-branch-ga/
LOCATION:GA
CATEGORIES:North Georgia
ATTACH;FMTTYPE=:
END:VEVENT
BEGIN:VEVENT
DTSTART;TZID=America/New_York:20260613T083000
DTEND;TZID=America/New_York:20260613T103000
DTSTAMP:20260419T225250
CREATED:20260222T221925Z
LAST-MODIFIED:20260222T221925Z
UID:10001419-1781339400-1781346600@ainsleysangels.org
SUMMARY:St Brendan the NaviGator 5K  -  Alpharetta GA (Halcyon)
DESCRIPTION:Jun 13th Saturday 8:30 AM\nSt Brendan NaviGator 5K  – Alpharetta GA (Halcyon)\nhttps://runsignup.com/navigator
URL:https://ainsleysangels.org/single-event/st-brendan-the-navigator-5k-alpharetta-ga-halcyon/
LOCATION:GA
CATEGORIES:North Georgia
ATTACH;FMTTYPE=:
END:VEVENT
END:VCALENDAR