BEGIN:VCALENDAR
VERSION:2.0
PRODID:-//Ainsley&#039;s Angels of America - ECPv6.15.20//NONSGML v1.0//EN
CALSCALE:GREGORIAN
METHOD:PUBLISH
X-WR-CALNAME:Ainsley&#039;s Angels of America
X-ORIGINAL-URL:https://ainsleysangels.org
X-WR-CALDESC:Events for Ainsley&#039;s Angels of America
REFRESH-INTERVAL;VALUE=DURATION:PT1H
X-Robots-Tag:noindex
X-PUBLISHED-TTL:PT1H
BEGIN:VTIMEZONE
TZID:America/New_York
BEGIN:DAYLIGHT
TZOFFSETFROM:-0500
TZOFFSETTO:-0400
TZNAME:EDT
DTSTART:20250309T070000
END:DAYLIGHT
BEGIN:STANDARD
TZOFFSETFROM:-0400
TZOFFSETTO:-0500
TZNAME:EST
DTSTART:20251102T060000
END:STANDARD
BEGIN:DAYLIGHT
TZOFFSETFROM:-0500
TZOFFSETTO:-0400
TZNAME:EDT
DTSTART:20260308T070000
END:DAYLIGHT
BEGIN:STANDARD
TZOFFSETFROM:-0400
TZOFFSETTO:-0500
TZNAME:EST
DTSTART:20261101T060000
END:STANDARD
BEGIN:DAYLIGHT
TZOFFSETFROM:-0500
TZOFFSETTO:-0400
TZNAME:EDT
DTSTART:20270314T070000
END:DAYLIGHT
BEGIN:STANDARD
TZOFFSETFROM:-0400
TZOFFSETTO:-0500
TZNAME:EST
DTSTART:20271107T060000
END:STANDARD
END:VTIMEZONE
BEGIN:VEVENT
DTSTART;TZID=America/New_York:20260307T080000
DTEND;TZID=America/New_York:20260307T120000
DTSTAMP:20260421T010921
CREATED:20260205T043922Z
LAST-MODIFIED:20260205T043922Z
UID:10001379-1772870400-1772884800@ainsleysangels.org
SUMMARY:Gate River Run 15K
DESCRIPTION:The Gate River Run 15K isn’t just a race—it’s a Jacksonville tradition. Held annually since 1978\, this legendary event brings together runners from all over the country for one of the largest and most competitive 15Ks in the world. \nThe course is famous (and infamous 😉) for taking runners over the Hart Bridge and the Main Street Bridge\, delivering unforgettable views of the St. Johns River and the downtown skyline—along with a challenge that keeps people coming back year after year. \nWhether you’re racing for a PR\, running with friends\, or soaking up the electric crowd energy\, the Gate River Run is an experience every runner should have at least once. \nQuick Tidbits & Fun Facts: \n🏆 One of the largest 15K races in the U.S. \n🗓️ A Jacksonville staple for nearly 50 years \n🌉 Features two major bridge crossings \n🎉 Known for incredible crowd support and post-race festivities \n👟 Welcomes elite athletes\, recreational runners\, and first-timers alike \nWhy You Shouldn’t Miss It:\nThis race captures the heart of Jacksonville—community\, grit\, and a whole lot of fun. You won’t want to miss it!
URL:https://ainsleysangels.org/single-event/gate-river-run-15k/
LOCATION:Jacksonville Shipyards — 700 E. Bay Street\, 700 E. Bay Street\, Jacksonville\, FL\, 32202\, United States
CATEGORIES:Florida,Jacksonville
ATTACH;FMTTYPE=:
END:VEVENT
END:VCALENDAR