BEGIN:VCALENDAR
VERSION:2.0
PRODID:-//Ainsley&#039;s Angels of America - ECPv6.15.20//NONSGML v1.0//EN
CALSCALE:GREGORIAN
METHOD:PUBLISH
X-WR-CALNAME:Ainsley&#039;s Angels of America
X-ORIGINAL-URL:https://ainsleysangels.org
X-WR-CALDESC:Events for Ainsley&#039;s Angels of America
REFRESH-INTERVAL;VALUE=DURATION:PT1H
X-Robots-Tag:noindex
X-PUBLISHED-TTL:PT1H
BEGIN:VTIMEZONE
TZID:America/New_York
BEGIN:DAYLIGHT
TZOFFSETFROM:-0500
TZOFFSETTO:-0400
TZNAME:EDT
DTSTART:20240310T070000
END:DAYLIGHT
BEGIN:STANDARD
TZOFFSETFROM:-0400
TZOFFSETTO:-0500
TZNAME:EST
DTSTART:20241103T060000
END:STANDARD
BEGIN:DAYLIGHT
TZOFFSETFROM:-0500
TZOFFSETTO:-0400
TZNAME:EDT
DTSTART:20250309T070000
END:DAYLIGHT
BEGIN:STANDARD
TZOFFSETFROM:-0400
TZOFFSETTO:-0500
TZNAME:EST
DTSTART:20251102T060000
END:STANDARD
BEGIN:DAYLIGHT
TZOFFSETFROM:-0500
TZOFFSETTO:-0400
TZNAME:EDT
DTSTART:20260308T070000
END:DAYLIGHT
BEGIN:STANDARD
TZOFFSETFROM:-0400
TZOFFSETTO:-0500
TZNAME:EST
DTSTART:20261101T060000
END:STANDARD
END:VTIMEZONE
BEGIN:VEVENT
DTSTART;TZID=America/New_York:20250302T090000
DTEND;TZID=America/New_York:20250302T090000
DTSTAMP:20260421T163501
CREATED:20250131T211139Z
LAST-MODIFIED:20250131T215723Z
UID:10001278-1740906000-1740906000@ainsleysangels.org
SUMMARY:Jacksonville Spartan Sprint 5K
DESCRIPTION:This is a 5K obstacle course (aka Muddy Party…lol)!  We move through the course as one big group and work together to accomplish much!  Using creativity and teamwork\, we strive to make things as accessible as possible for all abilities. We will participate in the open category so no penalties if you are unable to complete an obstacle.  The idea is to keep moving forward and have fun!  Codes for Riders and Runners!  Contact Ambassador Kim if you’d like to join our team (jacksonville@ainsleysangels.org)
URL:https://ainsleysangels.org/single-event/jacksonville-spartan-sprint-5k-2/
LOCATION:Diamond D Ranch\, 5903-1Solomon Rd.\, Jacksonville\, FL\, 32234\, United States
CATEGORIES:Jacksonville
ATTACH;FMTTYPE=:
END:VEVENT
END:VCALENDAR