BEGIN:VCALENDAR
VERSION:2.0
PRODID:-//Ainsley&#039;s Angels of America - ECPv6.15.20//NONSGML v1.0//EN
CALSCALE:GREGORIAN
METHOD:PUBLISH
X-ORIGINAL-URL:https://ainsleysangels.org
X-WR-CALDESC:Events for Ainsley&#039;s Angels of America
REFRESH-INTERVAL;VALUE=DURATION:PT1H
X-Robots-Tag:noindex
X-PUBLISHED-TTL:PT1H
BEGIN:VTIMEZONE
TZID:America/New_York
BEGIN:DAYLIGHT
TZOFFSETFROM:-0500
TZOFFSETTO:-0400
TZNAME:EDT
DTSTART:20230312T070000
END:DAYLIGHT
BEGIN:STANDARD
TZOFFSETFROM:-0400
TZOFFSETTO:-0500
TZNAME:EST
DTSTART:20231105T060000
END:STANDARD
BEGIN:DAYLIGHT
TZOFFSETFROM:-0500
TZOFFSETTO:-0400
TZNAME:EDT
DTSTART:20240310T070000
END:DAYLIGHT
BEGIN:STANDARD
TZOFFSETFROM:-0400
TZOFFSETTO:-0500
TZNAME:EST
DTSTART:20241103T060000
END:STANDARD
BEGIN:DAYLIGHT
TZOFFSETFROM:-0500
TZOFFSETTO:-0400
TZNAME:EDT
DTSTART:20250309T070000
END:DAYLIGHT
BEGIN:STANDARD
TZOFFSETFROM:-0400
TZOFFSETTO:-0500
TZNAME:EST
DTSTART:20251102T060000
END:STANDARD
END:VTIMEZONE
BEGIN:VEVENT
DTSTART;TZID=America/New_York:20240725T090000
DTEND;TZID=America/New_York:20240725T160000
DTSTAMP:20260420T172330
CREATED:20240522T082517Z
LAST-MODIFIED:20240522T192456Z
UID:10000879-1721898000-1721923200@ainsleysangels.org
SUMMARY:City of Jacksonville Disability and Adaptive Recreation Expo 2024
DESCRIPTION:Join the City of Jacksonville Disabled Services Division and the Mayor’s Disability Council for the 3rd Annual Disability Expo 2024!  This year they’ve included an Adaptive Recreation exhibit.  Visit for even an hour on your lunch break…it’s so worth it!  If you’d like to greet people and pass out information at our Ainsley’s Angels table while you’re there\, let Ambassador Kim know what time you’d like to volunteer (Jacksonville@AinsleysAngels.org).
URL:https://ainsleysangels.org/single-event/city-of-jacksonville-disability-and-adaptive-recreation-expo-2024/
LOCATION:prime osborne\, 1000 Water St\, Jacksonville\, FL\, 32204\, United States
CATEGORIES:Jacksonville
ATTACH;FMTTYPE=:
ORGANIZER;CN="Jacksonville Disabled Services Division":MAILTO:DisabledServices@coj.net
END:VEVENT
BEGIN:VEVENT
DTSTART;VALUE=DATE:20240727
DTEND;VALUE=DATE:20240729
DTSTAMP:20260420T172330
CREATED:20240522T202833Z
LAST-MODIFIED:20240522T202833Z
UID:10000880-1722038400-1722211199@ainsleysangels.org
SUMMARY:Pickleball Fundraiser Tournament (Benefiting Ainsley's Angels)
DESCRIPTION:We are so excited to be the chosen charity partner for this tournament where a portion of each registration will go to our Jax Angels!  There will be a bracket for Adaptive Athletes Doubles consisting of Angel Riders and athletes of any level of pickleball.  Space is limited\, so let us know ASAP if you would like to participate on our adaptive team (Jacksonville@AinsleysAngels.org)!  Anyone interested as a general participant\, register & pay online for Men’s Doubles\, Women’s Doubles\, Mixed Doubles here:  https://pickleballbrackets.com/ptd.aspx?eid=c0330f53-35ce-4854-a312-3551e5f9aeba
URL:https://ainsleysangels.org/single-event/pickleball-fundraiser-tournament-benefiting-ainsleys-angels/
LOCATION:Toon Town Pickleball\, 1726 East Church Street\, Jacksonville\, FL\, 32202\, United States
CATEGORIES:Jacksonville
ATTACH;FMTTYPE=:
ORGANIZER;CN="Orlando Advanced Pickleball":MAILTO:orlandoadvancedpickleball@gmail.com
END:VEVENT
END:VCALENDAR