BEGIN:VCALENDAR
VERSION:2.0
PRODID:-//Ainsley&#039;s Angels of America - ECPv6.15.20//NONSGML v1.0//EN
CALSCALE:GREGORIAN
METHOD:PUBLISH
X-ORIGINAL-URL:https://ainsleysangels.org
X-WR-CALDESC:Events for Ainsley&#039;s Angels of America
REFRESH-INTERVAL;VALUE=DURATION:PT1H
X-Robots-Tag:noindex
X-PUBLISHED-TTL:PT1H
BEGIN:VTIMEZONE
TZID:UTC
BEGIN:STANDARD
TZOFFSETFROM:+0000
TZOFFSETTO:+0000
TZNAME:UTC
DTSTART:20220101T000000
END:STANDARD
END:VTIMEZONE
BEGIN:VEVENT
DTSTART;TZID=UTC:20230128T070000
DTEND;TZID=UTC:20230128T130000
DTSTAMP:20260422T212455
CREATED:20221202T220214Z
LAST-MODIFIED:20230214T055437Z
UID:10000042-1674889200-1674910800@ainsleysangels.org
SUMMARY:Wolfson Children's Challenge 55K Relay
DESCRIPTION:Our Angel Teams will be supporting our local children’s hospital by participating in the 55K Ultra Relay\, with 2 teams running/rolling 11 legs (each leg is a 5K and will have 1-2 riders per leg). Spots are limited\, so contact Ambassador Kim for registration instructions if you’re in! (Jacksonville@AinsleysAngels.org)
URL:https://ainsleysangels.org/single-event/wolfson-childrens-challenge-55k-relay/
LOCATION:121 Financial Ball Park\, 301 A Philip Randolph Blvd\, Jacksonville\, FL\, 32202\, United States
CATEGORIES:Jacksonville
ATTACH;FMTTYPE=:
END:VEVENT
END:VCALENDAR