BEGIN:VCALENDAR
VERSION:2.0
PRODID:-//Ainsley&#039;s Angels of America - ECPv6.15.20//NONSGML v1.0//EN
CALSCALE:GREGORIAN
METHOD:PUBLISH
X-WR-CALNAME:Ainsley&#039;s Angels of America
X-ORIGINAL-URL:https://ainsleysangels.org
X-WR-CALDESC:Events for Ainsley&#039;s Angels of America
REFRESH-INTERVAL;VALUE=DURATION:PT1H
X-Robots-Tag:noindex
X-PUBLISHED-TTL:PT1H
BEGIN:VTIMEZONE
TZID:America/New_York
BEGIN:DAYLIGHT
TZOFFSETFROM:-0500
TZOFFSETTO:-0400
TZNAME:EDT
DTSTART:20240310T070000
END:DAYLIGHT
BEGIN:STANDARD
TZOFFSETFROM:-0400
TZOFFSETTO:-0500
TZNAME:EST
DTSTART:20241103T060000
END:STANDARD
BEGIN:DAYLIGHT
TZOFFSETFROM:-0500
TZOFFSETTO:-0400
TZNAME:EDT
DTSTART:20250309T070000
END:DAYLIGHT
BEGIN:STANDARD
TZOFFSETFROM:-0400
TZOFFSETTO:-0500
TZNAME:EST
DTSTART:20251102T060000
END:STANDARD
BEGIN:DAYLIGHT
TZOFFSETFROM:-0500
TZOFFSETTO:-0400
TZNAME:EDT
DTSTART:20260308T070000
END:DAYLIGHT
BEGIN:STANDARD
TZOFFSETFROM:-0400
TZOFFSETTO:-0500
TZNAME:EST
DTSTART:20261101T060000
END:STANDARD
END:VTIMEZONE
BEGIN:VEVENT
DTSTART;TZID=America/New_York:20250222T083000
DTEND;TZID=America/New_York:20250222T103000
DTSTAMP:20260421T131048
CREATED:20250115T144958Z
LAST-MODIFIED:20250115T144958Z
UID:10001241-1740213000-1740220200@ainsleysangels.org
SUMMARY:FSM Run with a Mission
DESCRIPTION:Come join us in Nocatee at the FSM Run With a Mission. The 5K/10K are the same low price and the course takes us through community streets and the paved Nocatee Greenway Trails. This event supports Faithful Servant Missions in providing for the needs of children in Costa Rica.  \nRUNNERS:  There is family friendly pricing for ages 15 and under.\nRIDERS:  Contact Ambassador Kim for your comp code.
URL:https://ainsleysangels.org/single-event/fsm-run-with-a-mission/
LOCATION:Nocatee Station Field\, 400 Nocatee Center Way\, Ponte Vedra Beach\, FL\, 32081\, United States
CATEGORIES:Jacksonville
ATTACH;FMTTYPE=:
ORGANIZER;CN="Faithful Servant Missions":MAILTO:https://www.faithfulservantmissions.org/contact-us
END:VEVENT
END:VCALENDAR