BEGIN:VCALENDAR
VERSION:2.0
PRODID:-//Ainsley&#039;s Angels of America - ECPv6.15.20//NONSGML v1.0//EN
CALSCALE:GREGORIAN
METHOD:PUBLISH
X-ORIGINAL-URL:https://ainsleysangels.org
X-WR-CALDESC:Events for Ainsley&#039;s Angels of America
REFRESH-INTERVAL;VALUE=DURATION:PT1H
X-Robots-Tag:noindex
X-PUBLISHED-TTL:PT1H
BEGIN:VTIMEZONE
TZID:America/New_York
BEGIN:DAYLIGHT
TZOFFSETFROM:-0500
TZOFFSETTO:-0400
TZNAME:EDT
DTSTART:20230312T070000
END:DAYLIGHT
BEGIN:STANDARD
TZOFFSETFROM:-0400
TZOFFSETTO:-0500
TZNAME:EST
DTSTART:20231105T060000
END:STANDARD
BEGIN:DAYLIGHT
TZOFFSETFROM:-0500
TZOFFSETTO:-0400
TZNAME:EDT
DTSTART:20240310T070000
END:DAYLIGHT
BEGIN:STANDARD
TZOFFSETFROM:-0400
TZOFFSETTO:-0500
TZNAME:EST
DTSTART:20241103T060000
END:STANDARD
BEGIN:DAYLIGHT
TZOFFSETFROM:-0500
TZOFFSETTO:-0400
TZNAME:EDT
DTSTART:20250309T070000
END:DAYLIGHT
BEGIN:STANDARD
TZOFFSETFROM:-0400
TZOFFSETTO:-0500
TZNAME:EST
DTSTART:20251102T060000
END:STANDARD
END:VTIMEZONE
BEGIN:VEVENT
DTSTART;TZID=America/New_York:20240505T081600
DTEND;TZID=America/New_York:20240505T110000
DTSTAMP:20260420T215540
CREATED:20240309T224245Z
LAST-MODIFIED:20240309T224245Z
UID:10000827-1714896960-1714906800@ainsleysangels.org
SUMMARY:Swim.Run.Done
DESCRIPTION:Aqua/Run event – 1/2 mile swim followed by a 5k run – Race venue is the same as Limitless so the swim portion will be in their manmade lagoon (no wildlife). Swimmers will wear tri belts attached to their riders\, who will be pulled in inflatable boats.  The run portion will include our regular running chariots.  Contact Ambassador Kim for Swimmer/Runner codes and Rider codes (Jacksonville@AinsleysAngels.org).
URL:https://ainsleysangels.org/single-event/swim-run-done/
LOCATION:Beachwalk\, 100 Beachwalk Drive\, St Johns\, FL\, 32259\, United States
CATEGORIES:Jacksonville
ATTACH;FMTTYPE=:
ORGANIZER;CN="Ultimate Racing%2C Inc.":MAILTO:Info@UltimateRacingInc.com
END:VEVENT
END:VCALENDAR