BEGIN:VCALENDAR
VERSION:2.0
PRODID:-//Ainsley&#039;s Angels of America - ECPv6.15.20//NONSGML v1.0//EN
CALSCALE:GREGORIAN
METHOD:PUBLISH
X-ORIGINAL-URL:https://ainsleysangels.org
X-WR-CALDESC:Events for Ainsley&#039;s Angels of America
REFRESH-INTERVAL;VALUE=DURATION:PT1H
X-Robots-Tag:noindex
X-PUBLISHED-TTL:PT1H
BEGIN:VTIMEZONE
TZID:America/New_York
BEGIN:DAYLIGHT
TZOFFSETFROM:-0500
TZOFFSETTO:-0400
TZNAME:EDT
DTSTART:20230312T070000
END:DAYLIGHT
BEGIN:STANDARD
TZOFFSETFROM:-0400
TZOFFSETTO:-0500
TZNAME:EST
DTSTART:20231105T060000
END:STANDARD
BEGIN:DAYLIGHT
TZOFFSETFROM:-0500
TZOFFSETTO:-0400
TZNAME:EDT
DTSTART:20240310T070000
END:DAYLIGHT
BEGIN:STANDARD
TZOFFSETFROM:-0400
TZOFFSETTO:-0500
TZNAME:EST
DTSTART:20241103T060000
END:STANDARD
BEGIN:DAYLIGHT
TZOFFSETFROM:-0500
TZOFFSETTO:-0400
TZNAME:EDT
DTSTART:20250309T070000
END:DAYLIGHT
BEGIN:STANDARD
TZOFFSETFROM:-0400
TZOFFSETTO:-0500
TZNAME:EST
DTSTART:20251102T060000
END:STANDARD
END:VTIMEZONE
BEGIN:VEVENT
DTSTART;TZID=America/New_York:20240225T090000
DTEND;TZID=America/New_York:20240225T130000
DTSTAMP:20260420T221406
CREATED:20231219T170820Z
LAST-MODIFIED:20231219T170820Z
UID:10000739-1708851600-1708866000@ainsleysangels.org
SUMMARY:Jacksonville Spartan Sprint 5K
DESCRIPTION:Jacksonville Angels had an amazing experience at Spartan in 2023 so we are bringing another team back in 2024!\n*Runners\, we still have space for you!  Donation of any size to Ainsley’s Angels in Jacksonville on our website will earn you a ticket to participate with our Ainsley’s Angels team.  Contact Ambassador Kim (Jacksonville@AinsleysAngels.org) for your code after you donate.\n*Riders must be 14 yrs and up to participate.  No need to complete every obstacle perfectly.  Only your best effort and a “together we shall” attitude is needed!  Contact Ambassador Kim for your registration code.
URL:https://ainsleysangels.org/single-event/jacksonville-spartan-sprint-5k/
LOCATION:Diamond D Ranch\, 5903-1Solomon Rd.\, Jacksonville\, FL\, 32234\, United States
CATEGORIES:Jacksonville
ATTACH;FMTTYPE=:
END:VEVENT
END:VCALENDAR