BEGIN:VCALENDAR
VERSION:2.0
PRODID:-//Ainsley&#039;s Angels of America - ECPv6.15.20//NONSGML v1.0//EN
CALSCALE:GREGORIAN
METHOD:PUBLISH
X-ORIGINAL-URL:https://ainsleysangels.org
X-WR-CALDESC:Events for Ainsley&#039;s Angels of America
REFRESH-INTERVAL;VALUE=DURATION:PT1H
X-Robots-Tag:noindex
X-PUBLISHED-TTL:PT1H
BEGIN:VTIMEZONE
TZID:America/New_York
BEGIN:DAYLIGHT
TZOFFSETFROM:-0500
TZOFFSETTO:-0400
TZNAME:EDT
DTSTART:20240310T070000
END:DAYLIGHT
BEGIN:STANDARD
TZOFFSETFROM:-0400
TZOFFSETTO:-0500
TZNAME:EST
DTSTART:20241103T060000
END:STANDARD
BEGIN:DAYLIGHT
TZOFFSETFROM:-0500
TZOFFSETTO:-0400
TZNAME:EDT
DTSTART:20250309T070000
END:DAYLIGHT
BEGIN:STANDARD
TZOFFSETFROM:-0400
TZOFFSETTO:-0500
TZNAME:EST
DTSTART:20251102T060000
END:STANDARD
BEGIN:DAYLIGHT
TZOFFSETFROM:-0500
TZOFFSETTO:-0400
TZNAME:EDT
DTSTART:20260308T070000
END:DAYLIGHT
BEGIN:STANDARD
TZOFFSETFROM:-0400
TZOFFSETTO:-0500
TZNAME:EST
DTSTART:20261101T060000
END:STANDARD
END:VTIMEZONE
BEGIN:VEVENT
DTSTART;TZID=America/New_York:20251122T080000
DTEND;TZID=America/New_York:20251122T110000
DTSTAMP:20260421T180550
CREATED:20250929T150356Z
LAST-MODIFIED:20250929T150356Z
UID:10001333-1763798400-1763809200@ainsleysangels.org
SUMMARY:Nemours Children's Health Run & Walk
DESCRIPTION:Join us for the 3rd Annual Nemours Children’s Health Run & Walk\, Jacksonville on Saturday\, November 22\, 2025 \n5K and One-Mile Fun Run \n8 a.m. at our new location:\nNemours Children’s Health\n807 Children’s Way | Jacksonville\, FL 32207 \nThis family-friendly event includes a 5K and a One-Mile Fun Run kicking off at the Nemours Children’s Health clinic in downtown Jacksonville. The course will take runners\, walkers\, and wheelchair athletes through a scenic route along the St. Johns River and the beautiful neighborhoods of San Marco. \nProceeds from the event will support the Nemours Children’s Health\, Jacksonville  Compassionate Care Fund\, which restores the health of critically ill and injured children wherever the need is greatest. However\, teams and individuals that raise $5\,000 or more can designate their funds to support a department of their choice at Nemours Children’s Health\, Jacksonville. \nParticipants of all ages will enjoy activities in the Runner’s Village\, including music courtesy of our energetic DJ\, sponsor booths\, an exciting Kid Zone with games and inflatables\, mascots\, photo opportunities\, food\, and refreshments. \nWe expect 1\,000 runners\, walkers\, wheelchair athletes and their cheerleaders to join us. We  hope to see you there! Individuals and teams are welcome. \nPlease note: All 5K and One-mile Fun Run participants will receive a finishers medal\, race shirt and bib. Only 5K participants will receive a bib with a timing chip. \nRegister here > https://secure.qgiv.com/event/2nchrawj/
URL:https://ainsleysangels.org/single-event/nemours-childrens-health-run-walk/
LOCATION:Nemours Children’s Health\, 807 Children's Way\, Jacksonville\, FL\, 32207
CATEGORIES:Jacksonville
ATTACH;FMTTYPE=:
END:VEVENT
END:VCALENDAR