BEGIN:VCALENDAR
VERSION:2.0
PRODID:-//Ainsley&#039;s Angels of America - ECPv6.15.20//NONSGML v1.0//EN
CALSCALE:GREGORIAN
METHOD:PUBLISH
X-WR-CALNAME:Ainsley&#039;s Angels of America
X-ORIGINAL-URL:https://ainsleysangels.org
X-WR-CALDESC:Events for Ainsley&#039;s Angels of America
REFRESH-INTERVAL;VALUE=DURATION:PT1H
X-Robots-Tag:noindex
X-PUBLISHED-TTL:PT1H
BEGIN:VTIMEZONE
TZID:America/New_York
BEGIN:DAYLIGHT
TZOFFSETFROM:-0500
TZOFFSETTO:-0400
TZNAME:EDT
DTSTART:20240310T070000
END:DAYLIGHT
BEGIN:STANDARD
TZOFFSETFROM:-0400
TZOFFSETTO:-0500
TZNAME:EST
DTSTART:20241103T060000
END:STANDARD
BEGIN:DAYLIGHT
TZOFFSETFROM:-0500
TZOFFSETTO:-0400
TZNAME:EDT
DTSTART:20250309T070000
END:DAYLIGHT
BEGIN:STANDARD
TZOFFSETFROM:-0400
TZOFFSETTO:-0500
TZNAME:EST
DTSTART:20251102T060000
END:STANDARD
BEGIN:DAYLIGHT
TZOFFSETFROM:-0500
TZOFFSETTO:-0400
TZNAME:EDT
DTSTART:20260308T070000
END:DAYLIGHT
BEGIN:STANDARD
TZOFFSETFROM:-0400
TZOFFSETTO:-0500
TZNAME:EST
DTSTART:20261101T060000
END:STANDARD
END:VTIMEZONE
BEGIN:VEVENT
DTSTART;TZID=America/New_York:20250913T070000
DTEND;TZID=America/New_York:20250913T110000
DTSTAMP:20260421T233839
CREATED:20250702T211907Z
LAST-MODIFIED:20250702T211907Z
UID:10001322-1757746800-1757761200@ainsleysangels.org
SUMMARY:2025 Dreams Come True 5K
DESCRIPTION:Join us for the 8th Annual 5K – where heroes come to run\, walk\, or roll on Saturday\, September 13th! Our signature 5K\, proudly presented by TOTE\, is the main event but there’s more action-packed fun in store. Join us for the one-mile Dash for Dreams\, perfect for all ages\, and don’t miss DreamFest — a family-friendly celebration just beyond the finish line\, generously presented by Chick-fil-A. This year\, we’re going full superhero mode\, and we want to see you in your best cape\, mask\, or hero gear as we celebrate the real stars of the day: our incredible Dreamers. \nDreams Come True is the First Coast’s ONLY locally-based dream granting organization dedicated to using the power of a dream to bring hope and joy to EVERY First Coast child battling a life-threatening medical condition. Since 1984\, we have fulfilled the dreams of more than 5\,000 children. No child is ever denied a dream and no child is ever placed on a waiting list. \nIn addition to granting children’s dreams\, Dreams Come True supports Dreamers and their families during their entire medical journey through the Special Times program. Special Times include treatment milestone celebrations\, back-to-school supplies\, holiday support\, special events\, concerts\, meals\, and even college scholarships for dreamers and their siblings. \nRunners use Discount Code ANGELRUNNER for $10 off your registration.
URL:https://ainsleysangels.org/single-event/2025-dreams-come-true-5k/
LOCATION:UNF Coxwell Amphitheater\, University of North Fl Dr\, Jacksonville\, FL\, 32224\, United States
CATEGORIES:Jacksonville
ATTACH;FMTTYPE=:
ORGANIZER;CN="Dreams Come True":MAILTO:jud@dreamscometrue.org
END:VEVENT
BEGIN:VEVENT
DTSTART;TZID=America/New_York:20250927T070000
DTEND;TZID=America/New_York:20250927T100000
DTSTAMP:20260421T233839
CREATED:20250925T172128Z
LAST-MODIFIED:20250925T172128Z
UID:10001329-1758956400-1758967200@ainsleysangels.org
SUMMARY:BASCA CapeABILITIES 5K and 1 Mile Fun Walk
DESCRIPTION:Unleash your INNER HERO and support those with disabilities at the BASCA CapeABILITIES 5K! \nJoin us for the 13th Annual BASCA Cape”ABILITIES” 5K/1M fun walk on September 27\, 2025 at 8:00AM in Orange Park\, FL.  This family-friendly event invites participants of all ages and abilities to Run\, Walk or Roll for a great cause! \nGet ready to put on your CAPE and show your support for people of ALL abilities!  Registration kicks off at 7:00 AM\, with the race starting at 8:00 AM for all runners. Enjoy a scenic 3.1 mile course or a 1 Mile Fun Run through historic Orange Park. All runners receive a commemorative race T-shirt* and finisher medial. Runners participating in the 5K are eligible for overall and age group awards. Additionally\, chip timing and finish line photos are available for all 5K and Fun Run runners.  \nBASCA is thrilled to have Ainsleys Angels participating in this years CapeABILITIES 5K and Fun Run! \nBASCA serves adults with intellectual and developmental differences by providing residential services\, vocational training\, life skills programs and community inclusion activities. \n**This fundraiser will be used to install emergency generators in our group homes\, ensuring our clients are safe and comfortable during storms!!**
URL:https://ainsleysangels.org/single-event/basca-capeabilities-5k-and-1-mile-fun-walk/
LOCATION:BASCA 352 Stowe Ave\, Orange Park\, FL 32073\, 352 Stowe Ave\, Orange Park\, FL\, 32073\, United States
CATEGORIES:Jacksonville
ATTACH;FMTTYPE=:
END:VEVENT
END:VCALENDAR