BEGIN:VCALENDAR
VERSION:2.0
PRODID:-//Ainsley&#039;s Angels of America - ECPv6.15.20//NONSGML v1.0//EN
CALSCALE:GREGORIAN
METHOD:PUBLISH
X-ORIGINAL-URL:https://ainsleysangels.org
X-WR-CALDESC:Events for Ainsley&#039;s Angels of America
REFRESH-INTERVAL;VALUE=DURATION:PT1H
X-Robots-Tag:noindex
X-PUBLISHED-TTL:PT1H
BEGIN:VTIMEZONE
TZID:America/New_York
BEGIN:DAYLIGHT
TZOFFSETFROM:-0500
TZOFFSETTO:-0400
TZNAME:EDT
DTSTART:20230312T070000
END:DAYLIGHT
BEGIN:STANDARD
TZOFFSETFROM:-0400
TZOFFSETTO:-0500
TZNAME:EST
DTSTART:20231105T060000
END:STANDARD
BEGIN:DAYLIGHT
TZOFFSETFROM:-0500
TZOFFSETTO:-0400
TZNAME:EDT
DTSTART:20240310T070000
END:DAYLIGHT
BEGIN:STANDARD
TZOFFSETFROM:-0400
TZOFFSETTO:-0500
TZNAME:EST
DTSTART:20241103T060000
END:STANDARD
BEGIN:DAYLIGHT
TZOFFSETFROM:-0500
TZOFFSETTO:-0400
TZNAME:EDT
DTSTART:20250309T070000
END:DAYLIGHT
BEGIN:STANDARD
TZOFFSETFROM:-0400
TZOFFSETTO:-0500
TZNAME:EST
DTSTART:20251102T060000
END:STANDARD
END:VTIMEZONE
BEGIN:VEVENT
DTSTART;TZID=America/New_York:20241207T080000
DTEND;TZID=America/New_York:20241207T103000
DTSTAMP:20260420T230426
CREATED:20240918T214434Z
LAST-MODIFIED:20240918T214434Z
UID:10001173-1733558400-1733567400@ainsleysangels.org
SUMMARY:NEMOURS KIDSHEALTH 5K and 10K
DESCRIPTION:Nemours is bringing back this race and working on making it even better!  Thanks to The JT Townsend Foundation\, our runners and riders race fees are covered!  Choose your distance and enjoy a really fun after party with photos at the stadium and more!  Contact Ambassador Kim for registration codes (jacksonville@ainsleysangels.org).
URL:https://ainsleysangels.org/single-event/nemours-kidshealth-5k-and-10k/
LOCATION:EverBank Stadium\, 1 EverBank Field Dr\, Jacksonville\, FL\, 32202\, United States
CATEGORIES:Jacksonville
ATTACH;FMTTYPE=:
END:VEVENT
BEGIN:VEVENT
DTSTART;TZID=America/New_York:20241214T073000
DTEND;TZID=America/New_York:20241214T110000
DTSTAMP:20260420T230426
CREATED:20240918T220302Z
LAST-MODIFIED:20240918T220302Z
UID:10001174-1734161400-1734174000@ainsleysangels.org
SUMMARY:SPACE FORCE T-MINUS 10-MILER
DESCRIPTION:Two Angel Teams will be participating and we have room for more.  A hotel stay will be necessary\, as the teams will need to be there early for a security escort to the start.  Contact Ambassador Kim for more information (jacksonville@ainsleysangels.org)
URL:https://ainsleysangels.org/single-event/space-force-t-minus-10-miler/
LOCATION:Cape Canaveral Space Force Station\, FL\, Cape Canaveral\, FL\, 32920\, United States
CATEGORIES:Jacksonville
ATTACH;FMTTYPE=:
END:VEVENT
END:VCALENDAR