BEGIN:VCALENDAR
VERSION:2.0
PRODID:-//Ainsley&#039;s Angels of America - ECPv6.15.20//NONSGML v1.0//EN
CALSCALE:GREGORIAN
METHOD:PUBLISH
X-ORIGINAL-URL:https://ainsleysangels.org
X-WR-CALDESC:Events for Ainsley&#039;s Angels of America
REFRESH-INTERVAL;VALUE=DURATION:PT1H
X-Robots-Tag:noindex
X-PUBLISHED-TTL:PT1H
BEGIN:VTIMEZONE
TZID:America/New_York
BEGIN:DAYLIGHT
TZOFFSETFROM:-0500
TZOFFSETTO:-0400
TZNAME:EDT
DTSTART:20240310T070000
END:DAYLIGHT
BEGIN:STANDARD
TZOFFSETFROM:-0400
TZOFFSETTO:-0500
TZNAME:EST
DTSTART:20241103T060000
END:STANDARD
BEGIN:DAYLIGHT
TZOFFSETFROM:-0500
TZOFFSETTO:-0400
TZNAME:EDT
DTSTART:20250309T070000
END:DAYLIGHT
BEGIN:STANDARD
TZOFFSETFROM:-0400
TZOFFSETTO:-0500
TZNAME:EST
DTSTART:20251102T060000
END:STANDARD
BEGIN:DAYLIGHT
TZOFFSETFROM:-0500
TZOFFSETTO:-0400
TZNAME:EDT
DTSTART:20260308T070000
END:DAYLIGHT
BEGIN:STANDARD
TZOFFSETFROM:-0400
TZOFFSETTO:-0500
TZNAME:EST
DTSTART:20261101T060000
END:STANDARD
END:VTIMEZONE
BEGIN:VEVENT
DTSTART;TZID=America/New_York:20251101T060000
DTEND;TZID=America/New_York:20251101T170000
DTSTAMP:20260424T220330
CREATED:20250210T184735Z
LAST-MODIFIED:20250210T184735Z
UID:10001289-1761976800-1762016400@ainsleysangels.org
SUMMARY:Kaiser Permanente Thrive San Diego Half Marathon and 5K
DESCRIPTION:San Diego’s Most Scenic Half Marathon\nThe ninth annual Kaiser Permanente Thrive Half Marathon & 5K benefiting Make-A-Wish San Diego features a loop course through the heart of Mission Bay and encourages the community to “Thrive” by staying active\, eating healthy\, living well and giving back.
URL:https://ainsleysangels.org/single-event/kaiser-permanente-thrive-san-diego-half-marathon-and-5k/
CATEGORIES:California,Southern California
ATTACH;FMTTYPE=:
END:VEVENT
END:VCALENDAR