BEGIN:VCALENDAR
VERSION:2.0
PRODID:-//Ainsley&#039;s Angels of America - ECPv6.15.20//NONSGML v1.0//EN
CALSCALE:GREGORIAN
METHOD:PUBLISH
X-WR-CALNAME:Ainsley&#039;s Angels of America
X-ORIGINAL-URL:https://ainsleysangels.org
X-WR-CALDESC:Events for Ainsley&#039;s Angels of America
REFRESH-INTERVAL;VALUE=DURATION:PT1H
X-Robots-Tag:noindex
X-PUBLISHED-TTL:PT1H
BEGIN:VTIMEZONE
TZID:America/New_York
BEGIN:DAYLIGHT
TZOFFSETFROM:-0500
TZOFFSETTO:-0400
TZNAME:EDT
DTSTART:20220313T070000
END:DAYLIGHT
BEGIN:STANDARD
TZOFFSETFROM:-0400
TZOFFSETTO:-0500
TZNAME:EST
DTSTART:20221106T060000
END:STANDARD
BEGIN:DAYLIGHT
TZOFFSETFROM:-0500
TZOFFSETTO:-0400
TZNAME:EDT
DTSTART:20230312T070000
END:DAYLIGHT
BEGIN:STANDARD
TZOFFSETFROM:-0400
TZOFFSETTO:-0500
TZNAME:EST
DTSTART:20231105T060000
END:STANDARD
BEGIN:DAYLIGHT
TZOFFSETFROM:-0500
TZOFFSETTO:-0400
TZNAME:EDT
DTSTART:20240310T070000
END:DAYLIGHT
BEGIN:STANDARD
TZOFFSETFROM:-0400
TZOFFSETTO:-0500
TZNAME:EST
DTSTART:20241103T060000
END:STANDARD
END:VTIMEZONE
BEGIN:VEVENT
DTSTART;TZID=America/New_York:20230610T083000
DTEND;TZID=America/New_York:20230610T130000
DTSTAMP:20260419T183543
CREATED:20230606T013035Z
LAST-MODIFIED:20230606T013035Z
UID:10000701-1686385800-1686402000@ainsleysangels.org
SUMMARY:WeEmbrace 5k
DESCRIPTION:
URL:https://ainsleysangels.org/single-event/weembrace-5k/
LOCATION:Econome Park Folsom\, Ca\, 1900 Pkwy Dr N\, Folsom\, CA\, 95630\, United States
CATEGORIES:Sacramento
ATTACH;FMTTYPE=:
END:VEVENT
END:VCALENDAR