BEGIN:VCALENDAR
VERSION:2.0
PRODID:-//Ainsley&#039;s Angels of America - ECPv6.15.20//NONSGML v1.0//EN
CALSCALE:GREGORIAN
METHOD:PUBLISH
X-ORIGINAL-URL:https://ainsleysangels.org
X-WR-CALDESC:Events for Ainsley&#039;s Angels of America
REFRESH-INTERVAL;VALUE=DURATION:PT1H
X-Robots-Tag:noindex
X-PUBLISHED-TTL:PT1H
BEGIN:VTIMEZONE
TZID:America/New_York
BEGIN:DAYLIGHT
TZOFFSETFROM:-0500
TZOFFSETTO:-0400
TZNAME:EDT
DTSTART:20230312T070000
END:DAYLIGHT
BEGIN:STANDARD
TZOFFSETFROM:-0400
TZOFFSETTO:-0500
TZNAME:EST
DTSTART:20231105T060000
END:STANDARD
BEGIN:DAYLIGHT
TZOFFSETFROM:-0500
TZOFFSETTO:-0400
TZNAME:EDT
DTSTART:20240310T070000
END:DAYLIGHT
BEGIN:STANDARD
TZOFFSETFROM:-0400
TZOFFSETTO:-0500
TZNAME:EST
DTSTART:20241103T060000
END:STANDARD
BEGIN:DAYLIGHT
TZOFFSETFROM:-0500
TZOFFSETTO:-0400
TZNAME:EDT
DTSTART:20250309T070000
END:DAYLIGHT
BEGIN:STANDARD
TZOFFSETFROM:-0400
TZOFFSETTO:-0500
TZNAME:EST
DTSTART:20251102T060000
END:STANDARD
END:VTIMEZONE
BEGIN:VEVENT
DTSTART;TZID=America/New_York:20240704T060000
DTEND;TZID=America/New_York:20240704T100000
DTSTAMP:20260423T050820
CREATED:20240519T231049Z
LAST-MODIFIED:20240527T163346Z
UID:10000878-1720072800-1720087200@ainsleysangels.org
SUMMARY:RIVER VALLEY ANGELS IN THE 46th Annual Freedom Fest 5k
DESCRIPTION:  \n  \n \nThis is our ANNUAL Angel Race Staple! Greenwood has always welcomed the Angels to ride in their races! The 4th of July race is a fun event for everyone! No Code for this one. Angel riders are Free and do not need to register. If you are interested in joining us please reach out and message Alison! \n 
URL:https://ainsleysangels.org/single-event/river-valley-angels-in-the-46th-annual-freedom-fest-5k/
CATEGORIES:Arkansas,River Valley
ATTACH;FMTTYPE=image/png:https://ainsleysangels.org/wp-content/uploads/2024/05/AAFREEDOMEFEST.png
END:VEVENT
END:VCALENDAR