BEGIN:VCALENDAR
VERSION:2.0
PRODID:-//Ainsley&#039;s Angels of America - ECPv6.15.20//NONSGML v1.0//EN
CALSCALE:GREGORIAN
METHOD:PUBLISH
X-ORIGINAL-URL:https://ainsleysangels.org
X-WR-CALDESC:Events for Ainsley&#039;s Angels of America
REFRESH-INTERVAL;VALUE=DURATION:PT1H
X-Robots-Tag:noindex
X-PUBLISHED-TTL:PT1H
BEGIN:VTIMEZONE
TZID:America/New_York
BEGIN:DAYLIGHT
TZOFFSETFROM:-0500
TZOFFSETTO:-0400
TZNAME:EDT
DTSTART:20230312T070000
END:DAYLIGHT
BEGIN:STANDARD
TZOFFSETFROM:-0400
TZOFFSETTO:-0500
TZNAME:EST
DTSTART:20231105T060000
END:STANDARD
BEGIN:DAYLIGHT
TZOFFSETFROM:-0500
TZOFFSETTO:-0400
TZNAME:EDT
DTSTART:20240310T070000
END:DAYLIGHT
BEGIN:STANDARD
TZOFFSETFROM:-0400
TZOFFSETTO:-0500
TZNAME:EST
DTSTART:20241103T060000
END:STANDARD
BEGIN:DAYLIGHT
TZOFFSETFROM:-0500
TZOFFSETTO:-0400
TZNAME:EDT
DTSTART:20250309T070000
END:DAYLIGHT
BEGIN:STANDARD
TZOFFSETFROM:-0400
TZOFFSETTO:-0500
TZNAME:EST
DTSTART:20251102T060000
END:STANDARD
END:VTIMEZONE
BEGIN:VEVENT
DTSTART;TZID=America/New_York:20240420T070000
DTEND;TZID=America/New_York:20240420T090000
DTSTAMP:20260421T172729
CREATED:20240420T120007Z
LAST-MODIFIED:20240324T175754Z
UID:10000843-1713596400-1713603600@ainsleysangels.org
SUMMARY:River Valley Angels Run Manes and Miracles
DESCRIPTION:Come run with us supporting the Raise the Barn\, Manes and Miracles 5k and 10k this April 20th\, 2024. If you would like to ROLL with us message Alison for a code.    Link to sign up is here : \nhttps://runsignup.com/Race/Register/?raceId=72103
URL:https://ainsleysangels.org/single-event/river-valley-angels-run-manes-and-miracles/
CATEGORIES:Arkansas,River Valley
ATTACH;FMTTYPE=:
END:VEVENT
END:VCALENDAR