BEGIN:VCALENDAR
VERSION:2.0
PRODID:-//Ainsley&#039;s Angels of America - ECPv6.15.20//NONSGML v1.0//EN
CALSCALE:GREGORIAN
METHOD:PUBLISH
X-WR-CALNAME:Ainsley&#039;s Angels of America
X-ORIGINAL-URL:https://ainsleysangels.org
X-WR-CALDESC:Events for Ainsley&#039;s Angels of America
REFRESH-INTERVAL;VALUE=DURATION:PT1H
X-Robots-Tag:noindex
X-PUBLISHED-TTL:PT1H
BEGIN:VTIMEZONE
TZID:America/New_York
BEGIN:DAYLIGHT
TZOFFSETFROM:-0500
TZOFFSETTO:-0400
TZNAME:EDT
DTSTART:20240310T070000
END:DAYLIGHT
BEGIN:STANDARD
TZOFFSETFROM:-0400
TZOFFSETTO:-0500
TZNAME:EST
DTSTART:20241103T060000
END:STANDARD
BEGIN:DAYLIGHT
TZOFFSETFROM:-0500
TZOFFSETTO:-0400
TZNAME:EDT
DTSTART:20250309T070000
END:DAYLIGHT
BEGIN:STANDARD
TZOFFSETFROM:-0400
TZOFFSETTO:-0500
TZNAME:EST
DTSTART:20251102T060000
END:STANDARD
BEGIN:DAYLIGHT
TZOFFSETFROM:-0500
TZOFFSETTO:-0400
TZNAME:EDT
DTSTART:20260308T070000
END:DAYLIGHT
BEGIN:STANDARD
TZOFFSETFROM:-0400
TZOFFSETTO:-0500
TZNAME:EST
DTSTART:20261101T060000
END:STANDARD
END:VTIMEZONE
BEGIN:VEVENT
DTSTART;TZID=America/New_York:20251018T093000
DTEND;TZID=America/New_York:20251018T113000
DTSTAMP:20260419T133748
CREATED:20250925T204932Z
LAST-MODIFIED:20250925T204932Z
UID:10001330-1760779800-1760787000@ainsleysangels.org
SUMMARY:The Monster Mash 5K
DESCRIPTION:This is a 5K race that welcomes costumes and there is even a costume contest. It is at the Golay Center in Cambridge City\, Indiana.
URL:https://ainsleysangels.org/single-event/the-monster-mash-5k/
LOCATION:IN
ATTACH;FMTTYPE=:
END:VEVENT
BEGIN:VEVENT
DTSTART;TZID=America/New_York:20251018T170000
DTEND;TZID=America/New_York:20251018T200000
DTSTAMP:20260419T133748
CREATED:20250929T145439Z
LAST-MODIFIED:20250929T145544Z
UID:10001332-1760806800-1760817600@ainsleysangels.org
SUMMARY:Oktoberfest - Beer & Brats 5K
DESCRIPTION:5K starts at 5:00pm \nJoin us for an Oktoberfest evening in San Marco Square for a festive 5K and one mile run/walk though scenic San Marco followed by free beer and brats. Create a festive Octoberfest experience by wearing a traditional Tracht (Tra-oct) outfit. Women dress up in a dirndl (Deern-dul) dress and men sport your lederhosen (Lay-der-hozen) shorts. All entrants will receive a race shirt and an official custom designed beer mug and two free beers and a brat. Tepeyolot Cerveceria brewery will be brewing a special beer just for this event and the beer will be served (first two beers free to participants) at different locations in the Square. Oom-Pah-pah music will be featured. \nRegister here > https://raceroster.com/events/2025/107701/beer-and-brats-5k?mc_cid=e32aa5ec61&mc_eid=597b41ef3b
URL:https://ainsleysangels.org/single-event/oktoberfest-beer-brats-5k/
LOCATION:San Marco\, 2018 San Marco Blvd\, Jacksonville\, FL\, 32207
CATEGORIES:Jacksonville
ATTACH;FMTTYPE=:
END:VEVENT
END:VCALENDAR