BEGIN:VCALENDAR
VERSION:2.0
PRODID:-//Ainsley&#039;s Angels of America - ECPv6.15.20//NONSGML v1.0//EN
CALSCALE:GREGORIAN
METHOD:PUBLISH
X-ORIGINAL-URL:https://ainsleysangels.org
X-WR-CALDESC:Events for Ainsley&#039;s Angels of America
REFRESH-INTERVAL;VALUE=DURATION:PT1H
X-Robots-Tag:noindex
X-PUBLISHED-TTL:PT1H
BEGIN:VTIMEZONE
TZID:America/New_York
BEGIN:DAYLIGHT
TZOFFSETFROM:-0500
TZOFFSETTO:-0400
TZNAME:EDT
DTSTART:20240310T070000
END:DAYLIGHT
BEGIN:STANDARD
TZOFFSETFROM:-0400
TZOFFSETTO:-0500
TZNAME:EST
DTSTART:20241103T060000
END:STANDARD
BEGIN:DAYLIGHT
TZOFFSETFROM:-0500
TZOFFSETTO:-0400
TZNAME:EDT
DTSTART:20250309T070000
END:DAYLIGHT
BEGIN:STANDARD
TZOFFSETFROM:-0400
TZOFFSETTO:-0500
TZNAME:EST
DTSTART:20251102T060000
END:STANDARD
BEGIN:DAYLIGHT
TZOFFSETFROM:-0500
TZOFFSETTO:-0400
TZNAME:EDT
DTSTART:20260308T070000
END:DAYLIGHT
BEGIN:STANDARD
TZOFFSETFROM:-0400
TZOFFSETTO:-0500
TZNAME:EST
DTSTART:20261101T060000
END:STANDARD
END:VTIMEZONE
BEGIN:VEVENT
DTSTART;TZID=America/New_York:20250530T180000
DTEND;TZID=America/New_York:20250530T200000
DTSTAMP:20260419T165445
CREATED:20250125T004226Z
LAST-MODIFIED:20250125T004420Z
UID:10001262-1748628000-1748635200@ainsleysangels.org
SUMMARY:GNOLA Rivershack Eastbank 2 Miler
DESCRIPTION:We’ll be rolling on the Mississippi River levee for this fun and scenic 2 mile race!
URL:https://ainsleysangels.org/single-event/gnola-rivershack-eastbank-2-miler/
LOCATION:IN
CATEGORIES:Greater New Orleans,Louisiana
ATTACH;FMTTYPE=:
END:VEVENT
END:VCALENDAR