BEGIN:VCALENDAR
VERSION:2.0
PRODID:-//Ainsley&#039;s Angels of America - ECPv6.15.20//NONSGML v1.0//EN
CALSCALE:GREGORIAN
METHOD:PUBLISH
X-ORIGINAL-URL:https://ainsleysangels.org
X-WR-CALDESC:Events for Ainsley&#039;s Angels of America
REFRESH-INTERVAL;VALUE=DURATION:PT1H
X-Robots-Tag:noindex
X-PUBLISHED-TTL:PT1H
BEGIN:VTIMEZONE
TZID:America/New_York
BEGIN:DAYLIGHT
TZOFFSETFROM:-0500
TZOFFSETTO:-0400
TZNAME:EDT
DTSTART:20230312T070000
END:DAYLIGHT
BEGIN:STANDARD
TZOFFSETFROM:-0400
TZOFFSETTO:-0500
TZNAME:EST
DTSTART:20231105T060000
END:STANDARD
BEGIN:DAYLIGHT
TZOFFSETFROM:-0500
TZOFFSETTO:-0400
TZNAME:EDT
DTSTART:20240310T070000
END:DAYLIGHT
BEGIN:STANDARD
TZOFFSETFROM:-0400
TZOFFSETTO:-0500
TZNAME:EST
DTSTART:20241103T060000
END:STANDARD
BEGIN:DAYLIGHT
TZOFFSETFROM:-0500
TZOFFSETTO:-0400
TZNAME:EDT
DTSTART:20250309T070000
END:DAYLIGHT
BEGIN:STANDARD
TZOFFSETFROM:-0400
TZOFFSETTO:-0500
TZNAME:EST
DTSTART:20251102T060000
END:STANDARD
END:VTIMEZONE
BEGIN:VEVENT
DTSTART;TZID=America/New_York:20240714T020000
DTEND;TZID=America/New_York:20240714T043000
DTSTAMP:20260420T124823
CREATED:20240516T180749Z
LAST-MODIFIED:20240516T180749Z
UID:10000876-1720922400-1720931400@ainsleysangels.org
SUMMARY:Angels at the Movies
DESCRIPTION:Join us for a private movie showing of Despicable Me 4 for just our group!  All Jacksonville Angel Riders\, Runners\, Guardians\, and Allies (and your families) are welcome!  This event is sponsored by Ainsley’s Angels in Jacksonville so you will only be responsible for the cost of refreshments.  RSVP (Jacksonville@AinsleysAngels.org) your number of seats needed as soon as you know you can join us so we know to save the seats.
URL:https://ainsleysangels.org/single-event/angels-at-the-movies/
LOCATION:Cinemark Tinseltown\, 4535 Southside Blvd\, Jacksonville\, FL\, 32216\, United States
CATEGORIES:Jacksonville
ATTACH;FMTTYPE=:
ORGANIZER;CN="Ainsley's Angels in Jacksonville":MAILTO:jacksonville@ainsleysangels.org
END:VEVENT
END:VCALENDAR