BEGIN:VCALENDAR
VERSION:2.0
PRODID:-//Ainsley&#039;s Angels of America - ECPv6.15.20//NONSGML v1.0//EN
CALSCALE:GREGORIAN
METHOD:PUBLISH
X-ORIGINAL-URL:https://ainsleysangels.org
X-WR-CALDESC:Events for Ainsley&#039;s Angels of America
REFRESH-INTERVAL;VALUE=DURATION:PT1H
X-Robots-Tag:noindex
X-PUBLISHED-TTL:PT1H
BEGIN:VTIMEZONE
TZID:America/New_York
BEGIN:DAYLIGHT
TZOFFSETFROM:-0500
TZOFFSETTO:-0400
TZNAME:EDT
DTSTART:20230312T070000
END:DAYLIGHT
BEGIN:STANDARD
TZOFFSETFROM:-0400
TZOFFSETTO:-0500
TZNAME:EST
DTSTART:20231105T060000
END:STANDARD
BEGIN:DAYLIGHT
TZOFFSETFROM:-0500
TZOFFSETTO:-0400
TZNAME:EDT
DTSTART:20240310T070000
END:DAYLIGHT
BEGIN:STANDARD
TZOFFSETFROM:-0400
TZOFFSETTO:-0500
TZNAME:EST
DTSTART:20241103T060000
END:STANDARD
BEGIN:DAYLIGHT
TZOFFSETFROM:-0500
TZOFFSETTO:-0400
TZNAME:EDT
DTSTART:20250309T070000
END:DAYLIGHT
BEGIN:STANDARD
TZOFFSETFROM:-0400
TZOFFSETTO:-0500
TZNAME:EST
DTSTART:20251102T060000
END:STANDARD
END:VTIMEZONE
BEGIN:VEVENT
DTSTART;TZID=America/New_York:20240605T183000
DTEND;TZID=America/New_York:20240605T203000
DTSTAMP:20260420T220652
CREATED:20240228T210138Z
LAST-MODIFIED:20240228T210138Z
UID:10000818-1717612200-1717619400@ainsleysangels.org
SUMMARY:The Big Run
DESCRIPTION:Celebrate Global Running Day with The Big Run 5K presented by Michelob ULTRA. \nThis Global Running Day\, we will mark the occasion with an event to celebrate all of you –our amazing running and walking community. We invite you to join us at The Big Run 5K Fun Run on June 5 to log some midweek miles. Set a goal\, cross that finish line and celebrate Global Running Day with your friends\, family and Fleet Feet community!  Whether it’s your first 5K or your first in a while\, The Big Run will inspire you to keep showing up and be the best version of yourself. \nThe Big Run for Kids is intended for age 12 and under. \nThis is an untimed event and ALL paces are welcome! **Exclusive event shirt and medal only available for the first 100 registrants\, so don’t delay! \nEach month of the year\, our Team partners with a local non-profit organization to support and lift up through donations\, education on their goals and missions for our community\, and calls to action for continued support. This year our Big Run proceeds will be going to Ainsley’s Angels of Greenville. The vision of this amazing organization is inclusion without limits and together\, we shall educate\, advocate and celebrate inclusive communities while connecting everyone through empowerment and belonging. \nHelp us empower our community!
URL:https://ainsleysangels.org/single-event/the-big-run/
LOCATION:Fleet Feet Greenville\, 207 E. Arlington Blvd\, Greenville\, NC
ATTACH;FMTTYPE=:
END:VEVENT
END:VCALENDAR