BEGIN:VCALENDAR
VERSION:2.0
PRODID:-//Ainsley&#039;s Angels of America - ECPv6.15.20//NONSGML v1.0//EN
CALSCALE:GREGORIAN
METHOD:PUBLISH
X-ORIGINAL-URL:https://ainsleysangels.org
X-WR-CALDESC:Events for Ainsley&#039;s Angels of America
REFRESH-INTERVAL;VALUE=DURATION:PT1H
X-Robots-Tag:noindex
X-PUBLISHED-TTL:PT1H
BEGIN:VTIMEZONE
TZID:America/New_York
BEGIN:DAYLIGHT
TZOFFSETFROM:-0500
TZOFFSETTO:-0400
TZNAME:EDT
DTSTART:20230312T070000
END:DAYLIGHT
BEGIN:STANDARD
TZOFFSETFROM:-0400
TZOFFSETTO:-0500
TZNAME:EST
DTSTART:20231105T060000
END:STANDARD
BEGIN:DAYLIGHT
TZOFFSETFROM:-0500
TZOFFSETTO:-0400
TZNAME:EDT
DTSTART:20240310T070000
END:DAYLIGHT
BEGIN:STANDARD
TZOFFSETFROM:-0400
TZOFFSETTO:-0500
TZNAME:EST
DTSTART:20241103T060000
END:STANDARD
BEGIN:DAYLIGHT
TZOFFSETFROM:-0500
TZOFFSETTO:-0400
TZNAME:EDT
DTSTART:20250309T070000
END:DAYLIGHT
BEGIN:STANDARD
TZOFFSETFROM:-0400
TZOFFSETTO:-0500
TZNAME:EST
DTSTART:20251102T060000
END:STANDARD
END:VTIMEZONE
BEGIN:VEVENT
DTSTART;TZID=America/New_York:20240602T060000
DTEND;TZID=America/New_York:20240602T170000
DTSTAMP:20260420T204953
CREATED:20231114T001105Z
LAST-MODIFIED:20231114T001105Z
UID:10000734-1717308000-1717347600@ainsleysangels.org
SUMMARY:Rock 'n' Roll San Diego half and full marathon
DESCRIPTION:
URL:https://ainsleysangels.org/single-event/rock-n-roll-san-diego-half-and-full-marathon/
ATTACH;FMTTYPE=:
END:VEVENT
BEGIN:VEVENT
DTSTART;TZID=America/New_York:20240602T090000
DTEND;TZID=America/New_York:20240602T110000
DTSTAMP:20260420T204953
CREATED:20240404T153509Z
LAST-MODIFIED:20240404T153509Z
UID:10000852-1717318800-1717326000@ainsleysangels.org
SUMMARY:Run The Vineyards Valenzano 5k
DESCRIPTION:Run the Vineyards and Valenzano Family Winery join forces for the 8th Annual 5K! Run or Walk the course and finish with a fun after party. Enjoy running on country roads and through a short vineyard trail\, and finish in a beautiful setting with handcrafted delicious wine\, live music\, and delicious pizza! A memorable and fun winery experience that combines the love of wine\, outdoors\, and healthy exercise!\n\n\nComplimentary glass of wine for all finishers (21+)\n\n\nSouvenir wine glass for all finishers\n\n\nQuality race tee for all participants (Women’s Tank top optional for $5extra) *Please register on or before May 17 to guarantee your first choice.\n\n\nFree downloadable photos\n\n\n\n\nPost race live music by TJ Fry Band\n\n\nOn-site food trucks – featuring Buon Viaggio Wood Fired Pizza\n\n\nBeautiful setting in the festival field overlooking the vineyard property\n\n\nValenzano Family Winery wine bar will be open for additional purchasesValenzano
URL:https://ainsleysangels.org/single-event/run-the-vineyards-valenzano-5k/
LOCATION:Valenzano Winery\, 1090 US Rt 206\, Shamong\, NJ\, 08088\, United States
CATEGORIES:New Jersey,South Jersey
ATTACH;FMTTYPE=:
END:VEVENT
END:VCALENDAR