BEGIN:VCALENDAR
VERSION:2.0
PRODID:-//Ainsley&#039;s Angels of America - ECPv6.15.20//NONSGML v1.0//EN
CALSCALE:GREGORIAN
METHOD:PUBLISH
X-ORIGINAL-URL:https://ainsleysangels.org
X-WR-CALDESC:Events for Ainsley&#039;s Angels of America
REFRESH-INTERVAL;VALUE=DURATION:PT1H
X-Robots-Tag:noindex
X-PUBLISHED-TTL:PT1H
BEGIN:VTIMEZONE
TZID:America/New_York
BEGIN:DAYLIGHT
TZOFFSETFROM:-0500
TZOFFSETTO:-0400
TZNAME:EDT
DTSTART:20230312T070000
END:DAYLIGHT
BEGIN:STANDARD
TZOFFSETFROM:-0400
TZOFFSETTO:-0500
TZNAME:EST
DTSTART:20231105T060000
END:STANDARD
BEGIN:DAYLIGHT
TZOFFSETFROM:-0500
TZOFFSETTO:-0400
TZNAME:EDT
DTSTART:20240310T070000
END:DAYLIGHT
BEGIN:STANDARD
TZOFFSETFROM:-0400
TZOFFSETTO:-0500
TZNAME:EST
DTSTART:20241103T060000
END:STANDARD
BEGIN:DAYLIGHT
TZOFFSETFROM:-0500
TZOFFSETTO:-0400
TZNAME:EDT
DTSTART:20250309T070000
END:DAYLIGHT
BEGIN:STANDARD
TZOFFSETFROM:-0400
TZOFFSETTO:-0500
TZNAME:EST
DTSTART:20251102T060000
END:STANDARD
END:VTIMEZONE
BEGIN:VEVENT
DTSTART;TZID=America/New_York:20240525T070000
DTEND;TZID=America/New_York:20240525T130000
DTSTAMP:20260420T181011
CREATED:20240524T030450Z
LAST-MODIFIED:20240524T031305Z
UID:10000882-1716620400-1716642000@ainsleysangels.org
SUMMARY:Run for the Red White Blue 5k
DESCRIPTION:This is a race ainsley’s angels nelouisiana always love to participate in. We will meet up at the hanger at 7:15 and riders are to be in chariots by 7:30. race starts at 8am. Please contact nelouisiana@ainsleysangels.org if interested.\nThe Run for the Red\, White & Blue 5K/1K is held each Memorial Day weekend to support the Chennault Aviation & Military Museum. Sign up to honor our active service members and veterans\, and to remember those who paid the ultimate sacrifice for our freedom.\nThe Course is flat\, fast\, and well surfaced.  The race will begin and end at the Museum with participants passing thru the Flags of Freedom for the last quarter mile. Timing by McDuffie Timing of West Monroe.\nhttps://runsignup.com/Race/Events/LA/Monroe/RunfortheRedWhiteBlue
URL:https://ainsleysangels.org/single-event/run-for-the-red-white-blue-5k/
LOCATION:Chennault Aviation & Military Museum\, 701 Kansas Ln.\, Monroe\, LA\, 71203\, United States
ATTACH;FMTTYPE=:
END:VEVENT
BEGIN:VEVENT
DTSTART;TZID=America/New_York:20240525T190000
DTEND;TZID=America/New_York:20240525T190000
DTSTAMP:20260420T181011
CREATED:20240227T182519Z
LAST-MODIFIED:20240227T182519Z
UID:10000806-1716663600-1716663600@ainsleysangels.org
SUMMARY:Run Madtown 5k
DESCRIPTION:Where: Library Mall\n\nWhen: 7pm\nRegistration: https://runmadtown.com/5k/
URL:https://ainsleysangels.org/single-event/run-madtown-5k/
LOCATION:Library Mall
ATTACH;FMTTYPE=:
END:VEVENT
END:VCALENDAR