BEGIN:VCALENDAR
VERSION:2.0
PRODID:-//Ainsley&#039;s Angels of America - ECPv6.15.20//NONSGML v1.0//EN
CALSCALE:GREGORIAN
METHOD:PUBLISH
X-WR-CALNAME:Ainsley&#039;s Angels of America
X-ORIGINAL-URL:https://ainsleysangels.org
X-WR-CALDESC:Events for Ainsley&#039;s Angels of America
REFRESH-INTERVAL;VALUE=DURATION:PT1H
X-Robots-Tag:noindex
X-PUBLISHED-TTL:PT1H
BEGIN:VTIMEZONE
TZID:America/New_York
BEGIN:DAYLIGHT
TZOFFSETFROM:-0500
TZOFFSETTO:-0400
TZNAME:EDT
DTSTART:20230312T070000
END:DAYLIGHT
BEGIN:STANDARD
TZOFFSETFROM:-0400
TZOFFSETTO:-0500
TZNAME:EST
DTSTART:20231105T060000
END:STANDARD
BEGIN:DAYLIGHT
TZOFFSETFROM:-0500
TZOFFSETTO:-0400
TZNAME:EDT
DTSTART:20240310T070000
END:DAYLIGHT
BEGIN:STANDARD
TZOFFSETFROM:-0400
TZOFFSETTO:-0500
TZNAME:EST
DTSTART:20241103T060000
END:STANDARD
BEGIN:DAYLIGHT
TZOFFSETFROM:-0500
TZOFFSETTO:-0400
TZNAME:EDT
DTSTART:20250309T070000
END:DAYLIGHT
BEGIN:STANDARD
TZOFFSETFROM:-0400
TZOFFSETTO:-0500
TZNAME:EST
DTSTART:20251102T060000
END:STANDARD
END:VTIMEZONE
BEGIN:VTIMEZONE
TZID:America/Chicago
BEGIN:DAYLIGHT
TZOFFSETFROM:-0600
TZOFFSETTO:-0500
TZNAME:CDT
DTSTART:20230312T080000
END:DAYLIGHT
BEGIN:STANDARD
TZOFFSETFROM:-0500
TZOFFSETTO:-0600
TZNAME:CST
DTSTART:20231105T070000
END:STANDARD
BEGIN:DAYLIGHT
TZOFFSETFROM:-0600
TZOFFSETTO:-0500
TZNAME:CDT
DTSTART:20240310T080000
END:DAYLIGHT
BEGIN:STANDARD
TZOFFSETFROM:-0500
TZOFFSETTO:-0600
TZNAME:CST
DTSTART:20241103T070000
END:STANDARD
BEGIN:DAYLIGHT
TZOFFSETFROM:-0600
TZOFFSETTO:-0500
TZNAME:CDT
DTSTART:20250309T080000
END:DAYLIGHT
BEGIN:STANDARD
TZOFFSETFROM:-0500
TZOFFSETTO:-0600
TZNAME:CST
DTSTART:20251102T070000
END:STANDARD
END:VTIMEZONE
BEGIN:VEVENT
DTSTART;TZID=America/New_York:20240518T080000
DTEND;TZID=America/New_York:20240518T103000
DTSTAMP:20260420T193205
CREATED:20240228T205511Z
LAST-MODIFIED:20240228T205511Z
UID:10000817-1716019200-1716028200@ainsleysangels.org
SUMMARY:Farmville 5k
DESCRIPTION:Description\nThe Farmville 5K & Fun Run will be held on Saturday May 18th\, 2024. The 5K course starts and finishes at Farmville’s Town Common and features a scenic run along Farmville’s athletic field\, golf course\, library\, arboretum\, and through both new and historic neighborhoods in a family-friendly town.  The Fun Run will follow the first 1.2 miles of the 5K course\, turning off at the Town Common towards the finish line. This event is being supported by Farmville Parks & Recreation. \nThe 5k will start promptly at 8 am\, and the Fun Run will start shortly thereafter. \nThe 5K will be chip timed by Run the East LLC using disposable chips attached to each race bib.  The Fun Run will not be chip-timed. \nEvent t-shirt in preferred size guaranteed to all participants registered by April 24th. \nRegistration fees are non-refundable. This event will take place rain or shine.
URL:https://ainsleysangels.org/single-event/farmville-5k/
LOCATION:Farmville Town Common\, 3672 North Main Street\, Farmville\, NC
CATEGORIES:Greenville
ATTACH;FMTTYPE=:
END:VEVENT
BEGIN:VEVENT
DTSTART;TZID=America/New_York:20240518T080000
DTEND;TZID=America/New_York:20240518T110000
DTSTAMP:20260420T193205
CREATED:20240515T233620Z
LAST-MODIFIED:20240515T233620Z
UID:10000872-1716019200-1716030000@ainsleysangels.org
SUMMARY:Marine Chevy Shuffle 5K (a JOSC Race Series Event)
DESCRIPTION:
URL:https://ainsleysangels.org/single-event/marine-chevy-shuffle-5k-a-josc-race-series-event/
CATEGORIES:Eastern Carolina,North Carolina
ATTACH;FMTTYPE=:
END:VEVENT
BEGIN:VEVENT
DTSTART;TZID=America/Chicago:20240518T080000
DTEND;TZID=America/Chicago:20240518T170000
DTSTAMP:20260420T193205
CREATED:20240401T030919Z
LAST-MODIFIED:20240401T031005Z
UID:10000850-1716019200-1716051600@ainsleysangels.org
SUMMARY:Outrun the Rays\, Peosta\, Iowa
DESCRIPTION:Ainsley’s Angels of Iowa will be joining Outrun the Rays on May 18th.  This run supports and spreads awareness of Melanoma. \nWe are actively looking for runners and riders to join our angel teams.  If you are interested in joining a team\, please reach out to easterniowa@ainsleysangels.org \n\n– The 5k race and Kid’s Fun Run will begin and end at the Peosta Community Centre.\n– Kid’s Fun Run begins at 8:45 AM and the 5k begins at 9:15 AM.\n– Skin checks begin at 8:00 AM.\n\n\n\nos
URL:https://ainsleysangels.org/single-event/outrun-the-rays-peosta-iowa/
LOCATION:Peosta Community Centre\, 7896 Burds Road\, Peosta\, IA\, 52068\, United States
CATEGORIES:Eastern Iowa,Iowa
ATTACH;FMTTYPE=:
END:VEVENT
END:VCALENDAR