BEGIN:VCALENDAR
VERSION:2.0
PRODID:-//Ainsley&#039;s Angels of America - ECPv6.15.20//NONSGML v1.0//EN
CALSCALE:GREGORIAN
METHOD:PUBLISH
X-ORIGINAL-URL:https://ainsleysangels.org
X-WR-CALDESC:Events for Ainsley&#039;s Angels of America
REFRESH-INTERVAL;VALUE=DURATION:PT1H
X-Robots-Tag:noindex
X-PUBLISHED-TTL:PT1H
BEGIN:VTIMEZONE
TZID:America/Chicago
BEGIN:DAYLIGHT
TZOFFSETFROM:-0600
TZOFFSETTO:-0500
TZNAME:CDT
DTSTART:20220313T080000
END:DAYLIGHT
BEGIN:STANDARD
TZOFFSETFROM:-0500
TZOFFSETTO:-0600
TZNAME:CST
DTSTART:20221106T070000
END:STANDARD
BEGIN:DAYLIGHT
TZOFFSETFROM:-0600
TZOFFSETTO:-0500
TZNAME:CDT
DTSTART:20230312T080000
END:DAYLIGHT
BEGIN:STANDARD
TZOFFSETFROM:-0500
TZOFFSETTO:-0600
TZNAME:CST
DTSTART:20231105T070000
END:STANDARD
BEGIN:DAYLIGHT
TZOFFSETFROM:-0600
TZOFFSETTO:-0500
TZNAME:CDT
DTSTART:20240310T080000
END:DAYLIGHT
BEGIN:STANDARD
TZOFFSETFROM:-0500
TZOFFSETTO:-0600
TZNAME:CST
DTSTART:20241103T070000
END:STANDARD
END:VTIMEZONE
BEGIN:VTIMEZONE
TZID:America/New_York
BEGIN:DAYLIGHT
TZOFFSETFROM:-0500
TZOFFSETTO:-0400
TZNAME:EDT
DTSTART:20220313T070000
END:DAYLIGHT
BEGIN:STANDARD
TZOFFSETFROM:-0400
TZOFFSETTO:-0500
TZNAME:EST
DTSTART:20221106T060000
END:STANDARD
BEGIN:DAYLIGHT
TZOFFSETFROM:-0500
TZOFFSETTO:-0400
TZNAME:EDT
DTSTART:20230312T070000
END:DAYLIGHT
BEGIN:STANDARD
TZOFFSETFROM:-0400
TZOFFSETTO:-0500
TZNAME:EST
DTSTART:20231105T060000
END:STANDARD
BEGIN:DAYLIGHT
TZOFFSETFROM:-0500
TZOFFSETTO:-0400
TZNAME:EDT
DTSTART:20240310T070000
END:DAYLIGHT
BEGIN:STANDARD
TZOFFSETFROM:-0400
TZOFFSETTO:-0500
TZNAME:EST
DTSTART:20241103T060000
END:STANDARD
END:VTIMEZONE
BEGIN:VEVENT
DTSTART;TZID=America/Chicago:20231104T050000
DTEND;TZID=America/Chicago:20231104T090000
DTSTAMP:20260420T220649
CREATED:20230919T114510Z
LAST-MODIFIED:20230919T114833Z
UID:10000722-1699074000-1699088400@ainsleysangels.org
SUMMARY:West Monroe\, LA - Rollin on the River 5k - Race Series Race
DESCRIPTION:
URL:https://ainsleysangels.org/single-event/west-monroe-la-rollin-on-the-river-5k-race-series-race/
CATEGORIES:Louisiana,Northeast Louisiana
ATTACH;FMTTYPE=image/jpeg:https://ainsleysangels.org/wp-content/uploads/2023/09/image-for-calendar.jpg
END:VEVENT
BEGIN:VEVENT
DTSTART;TZID=America/New_York:20231104T071500
DTEND;TZID=America/New_York:20231104T170000
DTSTAMP:20260420T220649
CREATED:20230215T211930Z
LAST-MODIFIED:20230215T211930Z
UID:10000612-1699082100-1699117200@ainsleysangels.org
SUMMARY:SoCal: Thrive Half Marathon/5K San Diego
DESCRIPTION:Race Day Schedule\n5:30am – Packet Pick-Up Opens \n7:15am – Half Marathon/5K Start \n7:25am – Wish Walk Start \n7:45am – Live Music and Thrive Expo Opens \n9:00am – Awards Ceremony (Overall and Masters winners) \n12:00pm – Event Concludes \n*Subject to change*
URL:https://ainsleysangels.org/single-event/socal-thrive-half-marathon-5k-san-diego/
LOCATION:Ski Beach in Mission Bay
CATEGORIES:California,Southern California
ATTACH;FMTTYPE=:
END:VEVENT
BEGIN:VEVENT
DTSTART;TZID=America/New_York:20231104T080000
DTEND;TZID=America/New_York:20231104T100000
DTSTAMP:20260420T220649
CREATED:20230412T182400Z
LAST-MODIFIED:20230412T182400Z
UID:10000676-1699084800-1699092000@ainsleysangels.org
SUMMARY:Gobble Wobble 5K\, HAYSVILLE KANSAS
DESCRIPTION:Place\n523 Sarah Lane\nHaysville\, KS US 67060\n\n\n\n\nDescription\n\n\nREGISTRATION: \n*In Person Through November 4th by 5pm: \nHaysville Activity Center \n523 Sarah Lane\, Haysville\, KS 67060
URL:https://ainsleysangels.org/single-event/gobble-wobble-5k-haysville-kansas/
CATEGORIES:Kansas,Wichita
ATTACH;FMTTYPE=:
END:VEVENT
END:VCALENDAR