BEGIN:VCALENDAR
VERSION:2.0
PRODID:-//Ainsley&#039;s Angels of America - ECPv6.15.20//NONSGML v1.0//EN
CALSCALE:GREGORIAN
METHOD:PUBLISH
X-WR-CALNAME:Ainsley&#039;s Angels of America
X-ORIGINAL-URL:https://ainsleysangels.org
X-WR-CALDESC:Events for Ainsley&#039;s Angels of America
REFRESH-INTERVAL;VALUE=DURATION:PT1H
X-Robots-Tag:noindex
X-PUBLISHED-TTL:PT1H
BEGIN:VTIMEZONE
TZID:America/New_York
BEGIN:DAYLIGHT
TZOFFSETFROM:-0500
TZOFFSETTO:-0400
TZNAME:EDT
DTSTART:20220313T070000
END:DAYLIGHT
BEGIN:STANDARD
TZOFFSETFROM:-0400
TZOFFSETTO:-0500
TZNAME:EST
DTSTART:20221106T060000
END:STANDARD
BEGIN:DAYLIGHT
TZOFFSETFROM:-0500
TZOFFSETTO:-0400
TZNAME:EDT
DTSTART:20230312T070000
END:DAYLIGHT
BEGIN:STANDARD
TZOFFSETFROM:-0400
TZOFFSETTO:-0500
TZNAME:EST
DTSTART:20231105T060000
END:STANDARD
BEGIN:DAYLIGHT
TZOFFSETFROM:-0500
TZOFFSETTO:-0400
TZNAME:EDT
DTSTART:20240310T070000
END:DAYLIGHT
BEGIN:STANDARD
TZOFFSETFROM:-0400
TZOFFSETTO:-0500
TZNAME:EST
DTSTART:20241103T060000
END:STANDARD
END:VTIMEZONE
BEGIN:VEVENT
DTSTART;TZID=America/New_York:20231028T073000
DTEND;TZID=America/New_York:20231028T093000
DTSTAMP:20260420T220559
CREATED:20230818T152441Z
LAST-MODIFIED:20230818T152441Z
UID:10000716-1698478200-1698485400@ainsleysangels.org
SUMMARY:Ultimate Tri
DESCRIPTION:The Ultimate Tri  is held at the beautiful Beachwalk Community in St Johns\, Florida. The inviting Lagoon is surrounded by white sandy beaches and participants will enjoy a picturesque and exceptional course.  RUNNER and RIDER CODES AVAILABLE (check your email or contact Ambassador Kim jacksonville@ainsleysangels.org).  Register before 9/30/23 to save before the price increase!
URL:https://ainsleysangels.org/single-event/ultimate-tri/
LOCATION:Beachwalk\, 100 Beachwalk Drive\, St Johns\, FL\, 32259\, United States
CATEGORIES:Jacksonville
ATTACH;FMTTYPE=:
ORGANIZER;CN="Ultimate Racing%2C Inc.":MAILTO:Info@UltimateRacingInc.com
END:VEVENT
END:VCALENDAR