BEGIN:VCALENDAR
VERSION:2.0
PRODID:-//Ainsley&#039;s Angels of America - ECPv6.15.20//NONSGML v1.0//EN
CALSCALE:GREGORIAN
METHOD:PUBLISH
X-WR-CALNAME:Ainsley&#039;s Angels of America
X-ORIGINAL-URL:https://ainsleysangels.org
X-WR-CALDESC:Events for Ainsley&#039;s Angels of America
REFRESH-INTERVAL;VALUE=DURATION:PT1H
X-Robots-Tag:noindex
X-PUBLISHED-TTL:PT1H
BEGIN:VTIMEZONE
TZID:America/New_York
BEGIN:DAYLIGHT
TZOFFSETFROM:-0500
TZOFFSETTO:-0400
TZNAME:EDT
DTSTART:20220313T070000
END:DAYLIGHT
BEGIN:STANDARD
TZOFFSETFROM:-0400
TZOFFSETTO:-0500
TZNAME:EST
DTSTART:20221106T060000
END:STANDARD
BEGIN:DAYLIGHT
TZOFFSETFROM:-0500
TZOFFSETTO:-0400
TZNAME:EDT
DTSTART:20230312T070000
END:DAYLIGHT
BEGIN:STANDARD
TZOFFSETFROM:-0400
TZOFFSETTO:-0500
TZNAME:EST
DTSTART:20231105T060000
END:STANDARD
BEGIN:DAYLIGHT
TZOFFSETFROM:-0500
TZOFFSETTO:-0400
TZNAME:EDT
DTSTART:20240310T070000
END:DAYLIGHT
BEGIN:STANDARD
TZOFFSETFROM:-0400
TZOFFSETTO:-0500
TZNAME:EST
DTSTART:20241103T060000
END:STANDARD
END:VTIMEZONE
BEGIN:VTIMEZONE
TZID:UTC
BEGIN:STANDARD
TZOFFSETFROM:+0000
TZOFFSETTO:+0000
TZNAME:UTC
DTSTART:20220101T000000
END:STANDARD
END:VTIMEZONE
BEGIN:VEVENT
DTSTART;TZID=America/New_York:20230930T080000
DTEND;TZID=America/New_York:20230930T110000
DTSTAMP:20260421T073903
CREATED:20230911T065823Z
LAST-MODIFIED:20230911T065823Z
UID:10000719-1696060800-1696071600@ainsleysangels.org
SUMMARY:Lonoke AR Great Pumpkin Run 5k
DESCRIPTION:NELA will travel to Lonoke\, AR for this fun filled race.  The race includes:  Pumpkin Pancakes at the afterparty\, Live Band\, Door Prises\, and a Family Fun Zone for the kids. \n 
URL:https://ainsleysangels.org/single-event/lonoke-ar-great-pumpkin-run-5k/
ATTACH;FMTTYPE=:
END:VEVENT
BEGIN:VEVENT
DTSTART;TZID=America/New_York:20230930T080000
DTEND;TZID=America/New_York:20230930T110000
DTSTAMP:20260421T073903
CREATED:20230911T071456Z
LAST-MODIFIED:20230911T072258Z
UID:10000720-1696060800-1696071600@ainsleysangels.org
SUMMARY:Lonoke\, AR Great Pumpkin Run 5k
DESCRIPTION:NELA will travel to Lonoke\, AR for the Great Pumpkin Run 5k. The race includes: Pumpkin Pancakes at the afterparty\, Live Band\, Door Prizes\, and a Family Fun Zone for the kids.  Double click to go to the race website.
URL:https://ainsleysangels.org/single-event/lonoke-ar-great-pumpkin-run-5k-2/
CATEGORIES:Northeast Louisiana
ATTACH;FMTTYPE=:
END:VEVENT
BEGIN:VEVENT
DTSTART;TZID=UTC:20230930T080000
DTEND;TZID=UTC:20230930T170000
DTSTAMP:20260421T073903
CREATED:20230119T050342Z
LAST-MODIFIED:20230214T053852Z
UID:10000012-1696060800-1696093200@ainsleysangels.org
SUMMARY:Lucky Pumpkin 5k
DESCRIPTION:A great race in Davison  to help support Ireland’s Dream
URL:https://ainsleysangels.org/single-event/lucky-pumpkin-5k/
CATEGORIES:Michigan,Southeast Michigan
ATTACH;FMTTYPE=:
END:VEVENT
BEGIN:VEVENT
DTSTART;TZID=America/New_York:20230930T090000
DTEND;TZID=America/New_York:20230930T110000
DTSTAMP:20260421T073903
CREATED:20230315T004103Z
LAST-MODIFIED:20230315T004103Z
UID:10000639-1696064400-1696071600@ainsleysangels.org
SUMMARY:Albany-Adirondacks Great Pumpkin challenge - Saratoga Springs
DESCRIPTION:23rd Annual \n9/30/2023 \nSaratoga Springs State Park \nHosted y Saratoga Bridges \n  \n 
URL:https://ainsleysangels.org/single-event/albany-adirondacks-great-pumpkin-challenge-saratoga-springs/
CATEGORIES:Albany / ADK
ATTACH;FMTTYPE=:
END:VEVENT
BEGIN:VEVENT
DTSTART;TZID=America/New_York:20230930T090000
DTEND;TZID=America/New_York:20230930T113000
DTSTAMP:20260421T073903
CREATED:20230412T181335Z
LAST-MODIFIED:20230412T181335Z
UID:10000673-1696064400-1696073400@ainsleysangels.org
SUMMARY:Suspenders4Hope 5K\, WICHITA KANSAS
DESCRIPTION:Place\n2060 N Mid-Campus Drive\nWichita\, KS US 67208\n\n\n\n\nDescription\n\n\nJoin us for the 3rd Annual Suspenders4Hope 5k and 1 Mile walk to benefit StopSuicideICT\, presented by Ascension Via Christi and the Steve Clark YMCA. Registration and check-in begin at 8:30 am with the 5k starting at 9 am. The race is an official\, certified course on the beautiful Wichita State University Campus and will begin in the Steve Clark YMCA parking lot. Following the race\, several speakers and awards will be given. The event will conclude with a 1 Mile Memorial Walk in honor of those who lost their lives to suicide. All registrants for the run and walk will receive a race t-shirt.
URL:https://ainsleysangels.org/single-event/suspenders4hope-5k-wichita-kansas/
CATEGORIES:Kansas,Wichita
ATTACH;FMTTYPE=:
END:VEVENT
END:VCALENDAR