BEGIN:VCALENDAR
VERSION:2.0
PRODID:-//Ainsley&#039;s Angels of America - ECPv6.15.20//NONSGML v1.0//EN
CALSCALE:GREGORIAN
METHOD:PUBLISH
X-ORIGINAL-URL:https://ainsleysangels.org
X-WR-CALDESC:Events for Ainsley&#039;s Angels of America
REFRESH-INTERVAL;VALUE=DURATION:PT1H
X-Robots-Tag:noindex
X-PUBLISHED-TTL:PT1H
BEGIN:VTIMEZONE
TZID:UTC
BEGIN:STANDARD
TZOFFSETFROM:+0000
TZOFFSETTO:+0000
TZNAME:UTC
DTSTART:20220101T000000
END:STANDARD
END:VTIMEZONE
BEGIN:VEVENT
DTSTART;TZID=UTC:20230818T180000
DTEND;TZID=UTC:20230818T180000
DTSTAMP:20260422T180026
CREATED:20230119T050236Z
LAST-MODIFIED:20230214T053904Z
UID:10000016-1692381600-1692381600@ainsleysangels.org
SUMMARY:Howell Melon Run 5k
DESCRIPTION:A Friday evening run in Howell to kick of the Melon Festival.
URL:https://ainsleysangels.org/single-event/howell-melon-run-5k-2/
CATEGORIES:Michigan,Southeast Michigan
ATTACH;FMTTYPE=:
END:VEVENT
END:VCALENDAR