BEGIN:VCALENDAR
VERSION:2.0
PRODID:-//Ainsley&#039;s Angels of America - ECPv6.15.20//NONSGML v1.0//EN
CALSCALE:GREGORIAN
METHOD:PUBLISH
X-WR-CALNAME:Ainsley&#039;s Angels of America
X-ORIGINAL-URL:https://ainsleysangels.org
X-WR-CALDESC:Events for Ainsley&#039;s Angels of America
REFRESH-INTERVAL;VALUE=DURATION:PT1H
X-Robots-Tag:noindex
X-PUBLISHED-TTL:PT1H
BEGIN:VTIMEZONE
TZID:America/New_York
BEGIN:DAYLIGHT
TZOFFSETFROM:-0500
TZOFFSETTO:-0400
TZNAME:EDT
DTSTART:20220313T070000
END:DAYLIGHT
BEGIN:STANDARD
TZOFFSETFROM:-0400
TZOFFSETTO:-0500
TZNAME:EST
DTSTART:20221106T060000
END:STANDARD
BEGIN:DAYLIGHT
TZOFFSETFROM:-0500
TZOFFSETTO:-0400
TZNAME:EDT
DTSTART:20230312T070000
END:DAYLIGHT
BEGIN:STANDARD
TZOFFSETFROM:-0400
TZOFFSETTO:-0500
TZNAME:EST
DTSTART:20231105T060000
END:STANDARD
BEGIN:DAYLIGHT
TZOFFSETFROM:-0500
TZOFFSETTO:-0400
TZNAME:EDT
DTSTART:20240310T070000
END:DAYLIGHT
BEGIN:STANDARD
TZOFFSETFROM:-0400
TZOFFSETTO:-0500
TZNAME:EST
DTSTART:20241103T060000
END:STANDARD
END:VTIMEZONE
BEGIN:VTIMEZONE
TZID:UTC
BEGIN:STANDARD
TZOFFSETFROM:+0000
TZOFFSETTO:+0000
TZNAME:UTC
DTSTART:20220101T000000
END:STANDARD
END:VTIMEZONE
BEGIN:VEVENT
DTSTART;TZID=America/New_York:20230805T080000
DTEND;TZID=America/New_York:20230805T100000
DTSTAMP:20260422T015045
CREATED:20230412T180728Z
LAST-MODIFIED:20230412T180728Z
UID:10000671-1691222400-1691229600@ainsleysangels.org
SUMMARY:First Responders 5K Run & Walk - WICHITA KS
DESCRIPTION:The First Responders 5K Run & Walk Foundation is a locally created and registered non-profit organization operated by a Board of Directors comprised of First Responders and community members. \nThe Foundations mission and goals are to organize and host an Annual First Responders 5k Run/Walk and Community Day\, along with other various community-oriented fund-raising endeavors. \nThe annual event’s intent is to raise financial support and to partner with local First Responder agencies & Non-Profits to support their mission. These goals are accomplished by providing donations received during the fund-raising events to help support other non-profit organizations to minimize financial burdens\, critical to the operation of those organizations. \nThis Year our Beneficiaries are The Wichita Police & Fire Foundation and The Butler County Sheriff’s Office K-9 Unit.
URL:https://ainsleysangels.org/single-event/first-responders-5k-run-walk-wichita-ks/
CATEGORIES:Kansas,Wichita
ATTACH;FMTTYPE=:
END:VEVENT
BEGIN:VEVENT
DTSTART;TZID=UTC:20230805T080000
DTEND;TZID=UTC:20230805T170000
DTSTAMP:20260422T015045
CREATED:20230119T050120Z
LAST-MODIFIED:20230214T053924Z
UID:10000017-1691222400-1691254800@ainsleysangels.org
SUMMARY:Kayla O'Mara Memorial 5k-Goodrich
DESCRIPTION:Our longest event that we have been apart of.  This race is Goodrich is a great run.
URL:https://ainsleysangels.org/single-event/kayla-omara-memorial-5k-goodrich/
CATEGORIES:Michigan,Southeast Michigan
ATTACH;FMTTYPE=:
END:VEVENT
END:VCALENDAR