BEGIN:VCALENDAR
VERSION:2.0
PRODID:-//Ainsley&#039;s Angels of America - ECPv6.15.20//NONSGML v1.0//EN
CALSCALE:GREGORIAN
METHOD:PUBLISH
X-WR-CALNAME:Ainsley&#039;s Angels of America
X-ORIGINAL-URL:https://ainsleysangels.org
X-WR-CALDESC:Events for Ainsley&#039;s Angels of America
REFRESH-INTERVAL;VALUE=DURATION:PT1H
X-Robots-Tag:noindex
X-PUBLISHED-TTL:PT1H
BEGIN:VTIMEZONE
TZID:UTC
BEGIN:STANDARD
TZOFFSETFROM:+0000
TZOFFSETTO:+0000
TZNAME:UTC
DTSTART:20220101T000000
END:STANDARD
END:VTIMEZONE
BEGIN:VEVENT
DTSTART;TZID=UTC:20230722T080000
DTEND;TZID=UTC:20230722T100000
DTSTAMP:20260422T015027
CREATED:20230119T045953Z
LAST-MODIFIED:20230214T053928Z
UID:10000019-1690012800-1690020000@ainsleysangels.org
SUMMARY:Life Walk 5k- Detroit
DESCRIPTION:A run around beautiful Belle Isle in Detroit
URL:https://ainsleysangels.org/single-event/life-walk-5k-detroit/
ATTACH;FMTTYPE=:
END:VEVENT
END:VCALENDAR