BEGIN:VCALENDAR
VERSION:2.0
PRODID:-//Ainsley&#039;s Angels of America - ECPv6.15.20//NONSGML v1.0//EN
CALSCALE:GREGORIAN
METHOD:PUBLISH
X-ORIGINAL-URL:https://ainsleysangels.org
X-WR-CALDESC:Events for Ainsley&#039;s Angels of America
REFRESH-INTERVAL;VALUE=DURATION:PT1H
X-Robots-Tag:noindex
X-PUBLISHED-TTL:PT1H
BEGIN:VTIMEZONE
TZID:America/New_York
BEGIN:DAYLIGHT
TZOFFSETFROM:-0500
TZOFFSETTO:-0400
TZNAME:EDT
DTSTART:20220313T070000
END:DAYLIGHT
BEGIN:STANDARD
TZOFFSETFROM:-0400
TZOFFSETTO:-0500
TZNAME:EST
DTSTART:20221106T060000
END:STANDARD
BEGIN:DAYLIGHT
TZOFFSETFROM:-0500
TZOFFSETTO:-0400
TZNAME:EDT
DTSTART:20230312T070000
END:DAYLIGHT
BEGIN:STANDARD
TZOFFSETFROM:-0400
TZOFFSETTO:-0500
TZNAME:EST
DTSTART:20231105T060000
END:STANDARD
BEGIN:DAYLIGHT
TZOFFSETFROM:-0500
TZOFFSETTO:-0400
TZNAME:EDT
DTSTART:20240310T070000
END:DAYLIGHT
BEGIN:STANDARD
TZOFFSETFROM:-0400
TZOFFSETTO:-0500
TZNAME:EST
DTSTART:20241103T060000
END:STANDARD
END:VTIMEZONE
BEGIN:VEVENT
DTSTART;TZID=America/New_York:20230711T070000
DTEND;TZID=America/New_York:20230711T100000
DTSTAMP:20260422T180018
CREATED:20230527T030009Z
LAST-MODIFIED:20230527T030009Z
UID:10000697-1689058800-1689069600@ainsleysangels.org
SUMMARY:Cleveland Metro Parks Zoo Asian Lantern 1 Mile and 5k
DESCRIPTION:Race through Cleveland Metropark Zoo in the evening while being surrounded by the 2023 Asian Lantern Festival\, presented by S & B Foundation and GCXC. \n“Thousands of lanterns are placed across several destinations of the Zoo including the Welcome Plaza\, African Savanna\, Wilderness Trek\, Asian Highlands\, Waterfowl Lake and more.”  A rain or shine event with amazing finisher medals. \nAccess for participants into the zoo begins at 7:00pm.  Packet pick-up and race day registration takes place from 7:00pm-8:15pm. \nThe 1-Mile begins at 8:30pm and the 5K will begin at 9:00pm. \nUnique finisher medals and event tshirts for all participants! \nEvent: 1 Mile\n\n\nStart Time: 8:30pm EDT\nEnd Time: 9:30pm EDT\nPrice: $35.00 Race Fee + $4.96 SignUp FeeCleevel\nRegistration: Registration ends July 8\, 2023 at 11:59pm EDT\nRegistration Details\n\nEvent: 5k\n\n\nStart Time: 9:00pm EDT\nEnd Time: 10:30pm EDT\nPrice: $45.00 Race Fee + $5.64 SignUp Fee\nRegistration: Registration ends July 8\, 2023 at 11:59pm EDT\n\nEvent: Spectator Only\n\nSpectators receive no race swag and cannot participate in the race.\nStart Time: 7:00pm EDT\nEnd Time: 10:30pm EDT\nPrice: $25.00 Race Fee + $4.29 SignUp Fee\nRegistration: Registration ends July 11\, 2023 at 11:59pm EDT
URL:https://ainsleysangels.org/single-event/cleveland-metro-parks-zoo-asian-lantern-1-mile-and-5k/2023-07-11/1/
LOCATION:Cleveland Metro Parks Zoo  3900  Wildfire Way Cleveland Ohio 44109\, 3900 WIldfire Way\, Cleveland\, OH\, 44109\, United States
ATTACH;FMTTYPE=:
ORGANIZER;CN="GCXC. Timing and Management":MAILTO:crystal.s.boggs@gmail.com
END:VEVENT
BEGIN:VEVENT
DTSTART;TZID=America/New_York:20230711T080000
DTEND;TZID=America/New_York:20230711T170000
DTSTAMP:20260422T180018
CREATED:20230527T030009Z
LAST-MODIFIED:20230527T030009Z
UID:10000698-1689062400-1689094800@ainsleysangels.org
SUMMARY:Cleveland Metro Parks Zoo Asian Lantern 1 Mile and 5k
DESCRIPTION:Race through Cleveland Metropark Zoo in the evening while being surrounded by the 2023 Asian Lantern Festival\, presented by S & B Foundation and GCXC. \n“Thousands of lanterns are placed across several destinations of the Zoo including the Welcome Plaza\, African Savanna\, Wilderness Trek\, Asian Highlands\, Waterfowl Lake and more.”  A rain or shine event with amazing finisher medals. \nAccess for participants into the zoo begins at 7:00pm.  Packet pick-up and race day registration takes place from 7:00pm-8:15pm. \nThe 1-Mile begins at 8:30pm and the 5K will begin at 9:00pm. \nUnique finisher medals and event tshirts for all participants! \nEvent: 1 Mile\n\n\nStart Time: 8:30pm EDT\nEnd Time: 9:30pm EDT\nPrice: $35.00 Race Fee + $4.96 SignUp FeeCleevel\nRegistration: Registration ends July 8\, 2023 at 11:59pm EDT\nRegistration Details\n\nEvent: 5k\n\n\nStart Time: 9:00pm EDT\nEnd Time: 10:30pm EDT\nPrice: $45.00 Race Fee + $5.64 SignUp Fee\nRegistration: Registration ends July 8\, 2023 at 11:59pm EDT\n\nEvent: Spectator Only\n\nSpectators receive no race swag and cannot participate in the race.\nStart Time: 7:00pm EDT\nEnd Time: 10:30pm EDT\nPrice: $25.00 Race Fee + $4.29 SignUp Fee\nRegistration: Registration ends July 11\, 2023 at 11:59pm EDT
URL:https://ainsleysangels.org/single-event/cleveland-metro-parks-zoo-asian-lantern-1-mile-and-5k/2023-07-11/2/
LOCATION:Cleveland Metro Parks Zoo  3900  Wildfire Way Cleveland Ohio 44109\, 3900 WIldfire Way\, Cleveland\, OH\, 44109\, United States
ATTACH;FMTTYPE=:
ORGANIZER;CN="GCXC. Timing and Management":MAILTO:crystal.s.boggs@gmail.com
END:VEVENT
END:VCALENDAR